BEGIN:VCALENDAR
VERSION:2.0
PRODID:-//wp-events-plugin.com//7.2.3.1//EN
TZID:Europe/Amsterdam
X-WR-TIMEZONE:Europe/Amsterdam
BEGIN:VEVENT
UID:35711@agenda-zaanstreek.nl
DTSTART;TZID=Europe/Amsterdam:20250518T150000
DTEND;TZID=Europe/Amsterdam:20250518T150000
DTSTAMP:20250327T082301Z
URL:https://agenda-zaanstreek.nl/events/familie-van-der-blom-middagconcert
 /
SUMMARY:Familie van der Blom – middagconcert
DESCRIPTION:\n\n\n\n\n\n\n\n\n\n\n\n\n\n\n\n\n\n\n\n\n\n\n\n\nEen mooi (mid
 dag)concert voor familie\, vrienden\, kennissen en of muziekliefhebbers.\n
 \nAls familie van der Blom is het bespelen van een instrument iets wat bij
  jonge leeftijd altijd werd aangeboden. De harmonie- en fanfare-verenginge
 n als Soli Deo Gloria Koog Zaandijk\, Crescendo Westzaan en Apollo Zaandij
 k stonden daarbij altijd centraal. Helaas zien wij dat de huidige (muziek)
 verenigingen met moeite kunnen blijven bestaan en zelfs stoppen als vereni
 ging.\n\nOns doel is dan ook om de muzikale beleving van muziekvereniginge
 n een impuls te geven. Hoe geweldig het is om met elkaar muziek te maken. 
 Wij hebben geleerd dat dit één van de mooiste belevingen is die je meene
 emt in je verdere leven. Onze opa Goris van der Blom – medeoprichter van
  Soli Deo Gloria (zie foto) – ontving zelfs een onderscheiding in de Ord
 e van Oranje-Nassau voor het verenigingsleven. Dit concert is dan ook in d
 e geest van zijn inzet en de beleving van muziek. Een mooi concert met een
  variatie aan muziekstijlen.\n\nAls familie van der Blom\, muzikale famili
 eleden\, vrienden en leden van eerder genoemde orkesten uit de regio nemen
  wij het initiatief voor een nieuwe muzikale impuls aan het verenigingslev
 en. Wij doen dit omdat wij het leuk vinden om elkaar te ontmoeten en te tr
 effen bij dit concert.\n\nWij bieden een gevarieerd programma\, van klassi
 ek tot bekende thema’s uit films en musicals. Het orkest staat onder lei
 ding van Rolf Hoogenberg. Het programma wordt gepresenteerd door Bob van H
 ouven.\n\nTickets:&nbsp\;€ 14\,00 (+ € 1\,00 reserveringskosten)\n\n\n
 \n\n\n\n\n\n\n\n\nKoop tickets\n&nbsp\;\n\n\n\n\n\nLees ook Uniek familieo
 rkest geeft concert in de geest van opa Van der Blom | Al het nieuws uit Z
 aanstad\n\n&nbsp\;\n\n\n\n
CATEGORIES:Muziek
LOCATION:Cultureel Centrum Bullekerk (Westzijderkerk)\, Westzijde 75\, Zaan
 dam\, 1506 ED\, Nederland
X-APPLE-STRUCTURED-LOCATION;VALUE=URI;X-ADDRESS=Westzijde 75\, Zaandam\, 15
 06 ED\, Nederland;X-APPLE-RADIUS=100;X-TITLE=Cultureel Centrum Bullekerk (
 Westzijderkerk):geo:0,0
END:VEVENT
BEGIN:VTIMEZONE
TZID:Europe/Amsterdam
X-LIC-LOCATION:Europe/Amsterdam
BEGIN:DAYLIGHT
DTSTART:20250330T030000
TZOFFSETFROM:+0100
TZOFFSETTO:+0200
TZNAME:CEST
END:DAYLIGHT
END:VTIMEZONE
END:VCALENDAR