BEGIN:VCALENDAR
VERSION:2.0
PRODID:-//wp-events-plugin.com//7.2.3.1//EN
TZID:Europe/Amsterdam
X-WR-TIMEZONE:Europe/Amsterdam
BEGIN:VEVENT
UID:36771@agenda-zaanstreek.nl
DTSTART;TZID=Europe/Amsterdam:20250117T183000
DTEND;TZID=Europe/Amsterdam:20250117T183000
DTSTAMP:20250113T202308Z
URL:https://agenda-zaanstreek.nl/events/expositie-van-werken-petrykivka-sc
 hilderscursus/
SUMMARY:Expositie van werken Petrykivka schilderscursus
DESCRIPTION:\n\n\n\n\n\n\nVan harte welkom te bezoeken geweldige expositie 
 van werken Petrykivka schilderscursus deelnemers en een persoonlijke kunst
 collectie van Petrykivkakunstenaar Олена Смірнова @selena_far
 for\n\n\n 17.01.2025\, vrijdag\n 18:30\n@Oekraïense Club(Rozengracht 6-8\
 , 1506 SC Zaandam)\n\n\nDe Petrykivka techniek is een van de kunstvormen d
 ie op de Unesco-lijst van immaterieel cultureel erfgoed van de mensheid st
 aat .\n\n\nOp expositie worden de werken van dat studenten getoond \, die 
 ze tijdens de workshops die tijdens de cursus hebben gemaakt. Het betreft 
 geschenkkaarten met kerstmotieven\, kerstballen en keukenaccessoires.\n\n\
 nDe Petrykivka cursus was door een professioneel kunstenaar uit Oekraïne\
 , afkomstig uit Charkov\, een meester in het maken van porselein en Petryk
 ivka-schilderkunst Olena Smirnova binnen de Oekraïense club gegeven. Daar
 om naast de werken van haar studenten\, zal de master haar eigen collectie
  vertonen.\nMiss geen kans om in de geweldige kleurrijke wereld van Petryk
 ivka te duiken.\n\n\nDe toegang is gratis.\nVan harte welkom\nTot ziens op
  de tentoonstelling!\n\n\nDe cursus en de tentoonstelling werden mogelijk 
 gemaakt dankzij een subsidie ​​voor Oekraïense kunstenaars van @lette
 renfonds\n\n\n&nbsp\;\n\n\n\n\n\n\n\n\n\n\n\n\n\n\n\n&nbsp\;\n\n\n\n\n\n\n
 \n\n\n\n\n\n&nbsp\;\n\n\n\n\n\n\n\n\n
CATEGORIES:Expositie
LOCATION:Oekraïense Club\, Rozengracht 6-8\, Zaandam\, 1506 SC\, Nederland
X-APPLE-STRUCTURED-LOCATION;VALUE=URI;X-ADDRESS=Rozengracht 6-8\, Zaandam\,
  1506 SC\, Nederland;X-APPLE-RADIUS=100;X-TITLE=Oekraïense Club:geo:0,0
END:VEVENT
BEGIN:VTIMEZONE
TZID:Europe/Amsterdam
X-LIC-LOCATION:Europe/Amsterdam
BEGIN:STANDARD
DTSTART:20241027T020000
TZOFFSETFROM:+0200
TZOFFSETTO:+0100
TZNAME:CET
END:STANDARD
END:VTIMEZONE
END:VCALENDAR