BEGIN:VCALENDAR
VERSION:2.0
PRODID:-//wp-events-plugin.com//7.2.3.1//EN
TZID:Europe/Amsterdam
X-WR-TIMEZONE:Europe/Amsterdam
BEGIN:VEVENT
UID:38973@agenda-zaanstreek.nl
DTSTART;TZID=Europe/Amsterdam:20250524T000000
DTEND;TZID=Europe/Amsterdam:20250727T000000
DTSTAMP:20250529T100515Z
URL:https://agenda-zaanstreek.nl/events/expositie-marijn-fidder-inclusive-
 nation/
SUMMARY:Expositie Marijn Fidder - Inclusive Nation
DESCRIPTION:\n\n\n\n\n\n\n\n\nWist je dat 80 procent van alle mensen met ee
 n beperking in ontwikkelingslanden leeft? Ook in Oeganda worden ze gezien 
 als een last – of erger: als een vloek. Het betekent: armoede\, uitsluit
 ing\, geen onderwijs\, geen werk. Fotograaf Marijn Fidder besloot daar iet
 s tegenover te zetten. Met de expositie 'Inclusive nation' geeft ze hen ee
 n gezicht en een stem. Met trots tonen we haar werk in onze nieuwe gastexp
 ositie in Zaandam.\n\nKom naar de opening van deze confronterende en hoopv
 olle tentoonstelling:\n Zaterdag 24 mei 2025\n 14:00 – 16:30 uur\n Museu
 m of Humanity\, Hembrugterrein Zaandam\n Met live optreden van Rivelino Ri
 gters (Black Rockstar)\n Gratis toegang voor bezoekers van de opening\n\nE
 n Oeganda? Dat land werkt gelukkig aan verandering. Sinds 2020 heeft het e
 en van de meest vooruitstrevende wetten ter wereld voor mensen met een bep
 erking. Er is nog veel te doen\, maar er gloort hoop.\n\nDe expositie is t
 e zien t/m 27 juli 2025. Bekijk&nbsp\;hier&nbsp\;onze actuele openingstijd
 en en toegangsprijzen.\n\nMeer over het project:&nbsp\;marijnfidder.nl/inc
 lusive-nation\n\n\n\n\n\n
CATEGORIES:Expositie
LOCATION:Hembrug | Museum of Humanity\, Gebouw 155\, Ketelhuis10\, Zaandam\
 , 1505 RD\, Nederland
X-APPLE-STRUCTURED-LOCATION;VALUE=URI;X-ADDRESS=Gebouw 155\, Ketelhuis10\, 
 Zaandam\, 1505 RD\, Nederland;X-APPLE-RADIUS=100;X-TITLE=Hembrug | Museum 
 of Humanity:geo:0,0
END:VEVENT
BEGIN:VTIMEZONE
TZID:Europe/Amsterdam
X-LIC-LOCATION:Europe/Amsterdam
BEGIN:DAYLIGHT
DTSTART:20250330T030000
TZOFFSETFROM:+0100
TZOFFSETTO:+0200
TZNAME:CEST
END:DAYLIGHT
END:VTIMEZONE
END:VCALENDAR