BEGIN:VCALENDAR
VERSION:2.0
PRODID:-//wp-events-plugin.com//7.2.3.1//EN
TZID:Europe/Amsterdam
X-WR-TIMEZONE:Europe/Amsterdam
BEGIN:VEVENT
UID:36248@agenda-zaanstreek.nl
DTSTART;TZID=Europe/Amsterdam:20250118T090000
DTEND;TZID=Europe/Amsterdam:20250315T170000
DTSTAMP:20241209T150327Z
URL:https://agenda-zaanstreek.nl/events/expositie-kleurrijke-houtsneden-ui
 t-het-noorden/
SUMMARY:Expositie Kleurrijke houtsneden uit het Noorden
DESCRIPTION:\n\nBij Galerie Staphorsius is vanaf 18 januari een verrassende
  expositie van kleurenhoutsneden te zien.&nbsp\; Acht kunstenaars\, allen 
 uit de noordelijke provincies\, laten met hun kunstwerken een boeiende com
 binatie zien van deze oeroude traditionele techniek en hedendaagse invloed
 en. Het resulteert in een frisse en eigentijdse interpretatie van deze amb
 achtelijke kunstvorm. In het werken in deze verfijnde techniek wordt deze 
 groep als toonaangevend gezien.\n\nVoor het maken van een kleurenhoutsnede
  wordt met gutsen een afbeelding gesneden in een plaat hout. Vervolgens wo
 rdt de plaat ge-inkt en een afdruk gemaakt. Na een drukgang worden vervolg
 ens die delen weggesneden waar de kleur van de eerdere drukgang zichtbaar 
 moet blijven en is de plaat klaar voor de volgende drukgang met een andere
  inktkleur. Dit proces van telkens opnieuw snijden\, inkten en afdrukken w
 ordt herhaald en zo worden prenten wel opgebouwd in meer dan tien drukgang
 en. Elke drukgang is een definitieve stap\; door het wegsnijden immers is 
 er voor de kunstenaar geen weg terug. Het uiteindelijke resultaat\, het ku
 nstwerk\, ligt dan ook vooraf niet helemaal vast. Uiteindelijk blijft van 
 de gebruikte plaat niet veel over.\n\nZo is er werk te zien van Claudia va
 n de Leur. Voor haar is naar buiten\, banjeren\, met schetsblok of fotocam
 era de ultieme ontspanning en inspiratie. De dingen die haar onderweg insp
 ireren of verwonderen probeert ze te vangen in een beeld\, om iets van dez
 e verwondering te bewaren. De onderweg verzamelde beelden verwerkt ze verv
 olgens in sferische kleurenhoutsneden van vooral landschappen en vogels. Z
 ij studeerde af in 1998 aan de Academie Minerva in Groningen in de richtin
 g illustratie &amp\; fotografie. Tijdens een cursus grafiek aan de Klassie
 ke Academie in Groningen viel ze als een blok voor de houtsnedetechniek.\n
 \nVerder is er werk te zien van Marjolein Terwindt-Wetterauw\, Antje Velds
 tra\, Erik van Ommen\, Grietje Postma en Eline Brontsema\, Siemen Dijkstra
  en Wijke van der Bij.\n\nKleurrijke houtsneden uit het Noorden\n18 januar
 i tm 15 maart\ndinsdag tm zaterdag 9 – 17 uur\nRuime parkeergelegenheid\
 n\nGalerie Staphorsius\nJJ Allanstraat 287b\n1551RG Westzaan\nT: 075 – 6
 143000\nI: staphorsius.nl
CATEGORIES:Expositie
LOCATION:Galerie Staphorsius\, J.J. Allanstraat 287-B\, Westzaan\, 1551 RG\
 , Nederland
X-APPLE-STRUCTURED-LOCATION;VALUE=URI;X-ADDRESS=J.J. Allanstraat 287-B\, We
 stzaan\, 1551 RG\, Nederland;X-APPLE-RADIUS=100;X-TITLE=Galerie Staphorsiu
 s:geo:0,0
END:VEVENT
BEGIN:VTIMEZONE
TZID:Europe/Amsterdam
X-LIC-LOCATION:Europe/Amsterdam
BEGIN:STANDARD
DTSTART:20241027T020000
TZOFFSETFROM:+0200
TZOFFSETTO:+0100
TZNAME:CET
END:STANDARD
END:VTIMEZONE
END:VCALENDAR