BEGIN:VCALENDAR
VERSION:2.0
PRODID:-//wp-events-plugin.com//7.2.3.1//EN
TZID:Europe/Amsterdam
X-WR-TIMEZONE:Europe/Amsterdam
BEGIN:VEVENT
UID:40060@agenda-zaanstreek.nl
DTSTART;TZID=Europe/Amsterdam:20250927T190000
DTEND;TZID=Europe/Amsterdam:20250927T210000
DTSTAMP:20250828T101049Z
URL:https://agenda-zaanstreek.nl/events/excursie-vaartocht-zilverreigersaf
 ari/
SUMMARY:Excursie vaartocht Zilverreigersafari
DESCRIPTION:\n\n\n\n\n\nDatum/Tijd:&nbsp\;zaterdag 27 september 2024 – 19
 :00 – 21:00\n\nLocatie:&nbsp\;Bezoekerscentrum de Poelboerderij\n\nExcur
 sie vaartocht:&nbsp\;Zilverreigersafari\n\nTientallen grote zilverreigers 
 komen elke avond in de winter uit de wijde omgeving naar de gemeenschappel
 ijke slaapplaats in het Wormer- en Jisperveld. Het is een fantastisch scho
 uwspel\, wanneer in de avondschemering van verschillende kanten grote witt
 e vogels komen aanvliegen en plaatsnemen in de bomen. Het water van de Mer
 ken is ‘s nachts bedekt met een tapijt van honderden slapende meeuwen.\n
 \nExcursie vaartocht door het Wormer- en Jisperveld met gids. Vertrek: 19:
 00 uur.\n\n\nReserveren is noodzakelijk en kan telefonisch&nbsp\;075-62191
 00&nbsp\;tot 1½ uur voor vertrek of per mail (alleen op werkdagen tussen 
 9:00 en 16:00 uur)&nbsp\;bezoekerscentrum@poelboerderij.nl&nbsp\;onder ver
 melding van naam\, aantal personen en telefoonnummer.\n\n\nHet tarief voor
  een vaartocht inclusief koffie of thee:\n– volwassenen is 17\,50 euro\n
 – vrienden van de Poelboerderij 15 euro\n– kinderen t/m 12 jaar 5 euro
 \n\n\n\n\n
CATEGORIES:Excursie
LOCATION:Bezoekerscentrum De Poelboerderij\, Veerdijk 106\, Wormer\, 1531 M
 B\, Wormer\, Nederland
X-APPLE-STRUCTURED-LOCATION;VALUE=URI;X-ADDRESS=Veerdijk 106\, Wormer\, 153
 1 MB\, Wormer\, Nederland;X-APPLE-RADIUS=100;X-TITLE=Bezoekerscentrum De P
 oelboerderij:geo:0,0
END:VEVENT
BEGIN:VTIMEZONE
TZID:Europe/Amsterdam
X-LIC-LOCATION:Europe/Amsterdam
BEGIN:DAYLIGHT
DTSTART:20250330T030000
TZOFFSETFROM:+0100
TZOFFSETTO:+0200
TZNAME:CEST
END:DAYLIGHT
END:VTIMEZONE
END:VCALENDAR