BEGIN:VCALENDAR
VERSION:2.0
PRODID:-//wp-events-plugin.com//7.2.3.1//EN
TZID:Europe/Amsterdam
X-WR-TIMEZONE:Europe/Amsterdam
BEGIN:VEVENT
UID:39963@agenda-zaanstreek.nl
DTSTART;TZID=Europe/Amsterdam:20250920T203000
DTEND;TZID=Europe/Amsterdam:20250920T233000
DTSTAMP:20250821T092128Z
URL:https://agenda-zaanstreek.nl/events/excursie-vaartocht-vleermuizen/
SUMMARY:Excursie vaartocht Vleermuizen
DESCRIPTION:\n\n\n\n\n\nDatum/Tijd:&nbsp\;zaterdag 20 september 2025 – 20
 :30 – 23:30\n\nLocatie:&nbsp\;Bezoekerscentrum de Poelboerderij\n\nExcur
 sie vaartocht:&nbsp\;Vleermuizen\n\nNa een korte inleiding over vleermuize
 n&nbsp\; varen we met de boot naar Jisp. In dit dorp maken we een wandelin
 g Tijdens de wandeling worden met een batdetector de verschillende soorten
  vleermuizen herkend.\nTip: s avonds kan het behoorlijk koud zijn op het w
 ater. warme kleren aantrekken wordt dus aanbevolen.\nExcursie vaartocht do
 or het Wormer- en Jisperveld met gids. Vertrek: 20:30 uur.\n\n\nReserveren
  is noodzakelijk en kan telefonisch&nbsp\;075-6219100&nbsp\;tot 1½ uur vo
 or vertrek of per mail (alleen op werkdagen tussen 9:00 en 16:00 uur)&nbsp
 \;bezoekerscentrum@poelboerderij.nl&nbsp\;onder vermelding van naam\, aant
 al personen en telefoonnummer.\n\n\nHet tarief voor een vaartocht inclusie
 f koffie of thee:\n– volwassenen is 17\,50 euro\n– vrienden van de Poe
 lboerderij 15 euro\n– kinderen t/m 12 jaar 5 euro\n\n\n\n\n
CATEGORIES:Excursie
LOCATION:Bezoekerscentrum De Poelboerderij\, Veerdijk 106\, Wormer\, 1531 M
 B\, Wormer\, Nederland
X-APPLE-STRUCTURED-LOCATION;VALUE=URI;X-ADDRESS=Veerdijk 106\, Wormer\, 153
 1 MB\, Wormer\, Nederland;X-APPLE-RADIUS=100;X-TITLE=Bezoekerscentrum De P
 oelboerderij:geo:0,0
END:VEVENT
BEGIN:VTIMEZONE
TZID:Europe/Amsterdam
X-LIC-LOCATION:Europe/Amsterdam
BEGIN:DAYLIGHT
DTSTART:20250330T030000
TZOFFSETFROM:+0100
TZOFFSETTO:+0200
TZNAME:CEST
END:DAYLIGHT
END:VTIMEZONE
END:VCALENDAR