BEGIN:VCALENDAR
VERSION:2.0
PRODID:-//wp-events-plugin.com//7.2.3.1//EN
TZID:Europe/Amsterdam
X-WR-TIMEZONE:Europe/Amsterdam
BEGIN:VEVENT
UID:35117@agenda-zaanstreek.nl
DTSTART;TZID=Europe/Amsterdam:20241226T133000
DTEND;TZID=Europe/Amsterdam:20241226T153000
DTSTAMP:20241003T100030Z
URL:https://agenda-zaanstreek.nl/events/excursie-vaartocht-uitwaaien-op-tw
 eede-kerstdag/
SUMMARY:Excursie vaartocht Uitwaaien op tweede kerstdag
DESCRIPTION:Datum/Tijd:&nbsp\;donderdag 26 december 2024 – 13:30&nbsp\;
 –&nbsp\;15:30\n\nLocatie:&nbsp\;Bezoekerscentrum de Poelboerderij\n\nExc
 ursie vaartocht: Uitwaaien op tweede kerstdag\n\nHeerlijk om tussen alle k
 erstmaaltijden door even lekker een frisse neus te halen en te genieten va
 n al het moois dat het Wormer- en Jisperveld te bieden heeft. We verwelkom
 en u met een lekker stuk kerststol. In het veld overwinteren in deze perio
 de tienduizenden vogels. Smienten\, wulpen\, watersnippen\, goudplevieren\
 , kieviten\, futen\, meeuwen- en ganzensoorten. Maar ook de grote zilverre
 iger en blauwe kiekendief.\n\nExcursie vaartocht door het Wormer- en Jispe
 rveld met gids. Vertrek: 13.30 uur.\n\n\nReserveren is noodzakelijk en kan
  telefonisch&nbsp\;075-6219100&nbsp\;tot 1½ uur voor vertrek of per mail 
 (alleen op werkdagen tussen 9:00 en 16:00 uur)&nbsp\;bezoekerscentrum@poel
 boerderij.nl&nbsp\;onder vermelding van naam\, aantal personen en telefoon
 nummer.\n\nHet tarief voor een vaartocht inclusief koffie of thee:\n\n\n
 – volwassenen is 17\,50 euro\n– vrienden van de Poelboerderij 15 euro\
 n– kinderen t/m 12 jaar 5 euro\nAfvaart Bezoekerscentrum Poelboerderij\,
  Veerdijk 106\, Wormer.
CATEGORIES:Excursie
LOCATION:Bezoekerscentrum De Poelboerderij\, Veerdijk 106\, Wormer\, 1531 M
 B\, Wormer\, Nederland
X-APPLE-STRUCTURED-LOCATION;VALUE=URI;X-ADDRESS=Veerdijk 106\, Wormer\, 153
 1 MB\, Wormer\, Nederland;X-APPLE-RADIUS=100;X-TITLE=Bezoekerscentrum De P
 oelboerderij:geo:0,0
END:VEVENT
BEGIN:VTIMEZONE
TZID:Europe/Amsterdam
X-LIC-LOCATION:Europe/Amsterdam
BEGIN:STANDARD
DTSTART:20241027T020000
TZOFFSETFROM:+0200
TZOFFSETTO:+0100
TZNAME:CET
END:STANDARD
END:VTIMEZONE
END:VCALENDAR