BEGIN:VCALENDAR
VERSION:2.0
PRODID:-//wp-events-plugin.com//7.2.3.1//EN
TZID:Europe/Amsterdam
X-WR-TIMEZONE:Europe/Amsterdam
BEGIN:VEVENT
UID:38830@agenda-zaanstreek.nl
DTSTART;TZID=Europe/Amsterdam:20250601T133000
DTEND;TZID=Europe/Amsterdam:20250601T153000
DTSTAMP:20250522T091956Z
URL:https://agenda-zaanstreek.nl/events/excursie-vaartocht-roofvogels/
SUMMARY:Excursie vaartocht: Roofvogels
DESCRIPTION:\n\n\n\n\n\nDatum/Tijd:&nbsp\;zonjdag 1 juni 2025 – 13:30&nbs
 p\;–&nbsp\;15:30\n\nLocatie:&nbsp\;Bezoekerscentrum de Poelboerderij\n\n
 Excursie vaartocht:&nbsp\;Roofvogels\n\nTijdens deze vaartocht door het Wo
 rmer- en Jisperveld leert u roofvogels herkennen\n\nVooraf aan de vaartoch
 t een snelcursus ‘Roofvogels herkennen’. In deze tijd van het jaar heb
 ben roofvogels jongen en moet er veel gejaagd worden. Daarom is er nu de m
 eeste kans op het zien van een jagende slechtvalk\, buizerd\, torenvalk en
  bruine kiekendief. Kleine kans op boomvalk\, havik en sperwer.\n\nHet Wor
 mer- en Jisperveld wordt steeds aantrekkelijker voor roofvogels. De bruine
  kiekendief\, buizerd en havik kunnen erg goed aan hun voedselbehoefte voo
 rzien. De excursieboot zal een andere route varen dan gewoonlijk: we varen
  richting Jisp waar het veel boomrijker is. Varend langs de rietpercelen j
 aagt de bruine kiekendief op muizen en kikkers boven de graslanden. De pro
 oioverdracht tussen mannetje en vrouwtje is een schitterend moment. De hav
 ik jaagt heel anders: hij achtervolgt eenden en eksters (en ook nog groter
 e prooien!) en stort zich met een duikvlucht op zijn prooi.\n\nExcursie va
 artocht door het Wormer- en Jisperveld met gids. Vertrek: 13.30 uur.\n\n\n
 Reserveren is noodzakelijk en kan telefonisch&nbsp\;075-6219100&nbsp\;tot 
 1½ uur voor vertrek of per mail (alleen op werkdagen tussen 9:00 en 16:00
  uur)&nbsp\;bezoekerscentrum@poelboerderij.nl&nbsp\;onder vermelding van n
 aam\, aantal personen en telefoonnummer.\n\nHet tarief voor een vaartocht 
 inclusief koffie of thee:\n\n\n– volwassenen is 17\,50 euro\n– vriende
 n van de Poelboerderij 15 euro\n– kinderen t/m 12 jaar 5 euro\n\n
CATEGORIES:Excursie
LOCATION:Bezoekerscentrum De Poelboerderij\, Veerdijk 106\, Wormer\, 1531 M
 B\, Wormer\, Nederland
X-APPLE-STRUCTURED-LOCATION;VALUE=URI;X-ADDRESS=Veerdijk 106\, Wormer\, 153
 1 MB\, Wormer\, Nederland;X-APPLE-RADIUS=100;X-TITLE=Bezoekerscentrum De P
 oelboerderij:geo:0,0
END:VEVENT
BEGIN:VTIMEZONE
TZID:Europe/Amsterdam
X-LIC-LOCATION:Europe/Amsterdam
BEGIN:DAYLIGHT
DTSTART:20250330T030000
TZOFFSETFROM:+0100
TZOFFSETTO:+0200
TZNAME:CEST
END:DAYLIGHT
END:VTIMEZONE
END:VCALENDAR