BEGIN:VCALENDAR
VERSION:2.0
PRODID:-//wp-events-plugin.com//7.2.3.1//EN
TZID:Europe/Amsterdam
X-WR-TIMEZONE:Europe/Amsterdam
BEGIN:VEVENT
UID:38971@agenda-zaanstreek.nl
DTSTART;TZID=Europe/Amsterdam:20250608T133000
DTEND;TZID=Europe/Amsterdam:20250608T153000
DTSTAMP:20250529T095331Z
URL:https://agenda-zaanstreek.nl/events/excursie-vaartocht-rondje-wormer-e
 n-jisperveld-2/
SUMMARY:Excursie vaartocht Rondje Wormer- en Jisperveld
DESCRIPTION:Locatie:&nbsp\;Bezoekerscentrum de Poelboerderij\n\nExcursie va
 artocht:Rondje Wormer- en Jisperveld\n\nVaar mee door het Wormer- en Jispe
 rveld. Geniet op deze boottocht van de roepende vogels. Het is voorjaar! G
 a mee en luister naar de geluiden van de weidevogels in dit oer-Hollandse 
 veengebied. Tijdens de boottocht varen we door het gebied langs weilanden 
 met grutto’s en andere weidevogels. Grutto’s zoeken een broedplekje in
  het veld\, net als de tureluurs en kieviten. Hun geroep is een prachtig v
 oorjaarsgeluid. Onderweg komen we ook andere vogels tegen.\n\nExcursie vaa
 rtocht door het Wormer- en Jisperveld met gids. Vertrek: 13:30 uur.\n\n\nR
 eserveren is noodzakelijk en kan telefonisch&nbsp\;075-6219100&nbsp\;tot 1
 ½ uur voor vertrek of per mail (alleen op werkdagen tussen 9:00 en 16:00 
 uur)&nbsp\;bezoekerscentrum@poelboerderij.nl&nbsp\;onder vermelding van na
 am\, aantal personen en telefoonnummer.\n\n\nHet tarief voor een vaartocht
  inclusief koffie of thee:\n– volwassenen is 17\,50 euro\n– vrienden v
 an de Poelboerderij 15 euro\n– kinderen t/m 12 jaar 5 euro\n\n\n
CATEGORIES:Excursie
LOCATION:Bezoekerscentrum De Poelboerderij\, Veerdijk 106\, Wormer\, 1531 M
 B\, Wormer\, Nederland
X-APPLE-STRUCTURED-LOCATION;VALUE=URI;X-ADDRESS=Veerdijk 106\, Wormer\, 153
 1 MB\, Wormer\, Nederland;X-APPLE-RADIUS=100;X-TITLE=Bezoekerscentrum De P
 oelboerderij:geo:0,0
END:VEVENT
BEGIN:VTIMEZONE
TZID:Europe/Amsterdam
X-LIC-LOCATION:Europe/Amsterdam
BEGIN:DAYLIGHT
DTSTART:20250330T030000
TZOFFSETFROM:+0100
TZOFFSETTO:+0200
TZNAME:CEST
END:DAYLIGHT
END:VTIMEZONE
END:VCALENDAR