BEGIN:VCALENDAR
VERSION:2.0
PRODID:-//wp-events-plugin.com//7.2.3.1//EN
TZID:Europe/Amsterdam
X-WR-TIMEZONE:Europe/Amsterdam
BEGIN:VEVENT
UID:40410@agenda-zaanstreek.nl
DTSTART;TZID=Europe/Amsterdam:20251026T133000
DTEND;TZID=Europe/Amsterdam:20251026T153000
DTSTAMP:20251009T103012Z
URL:https://agenda-zaanstreek.nl/events/excursie-vaartocht-paddenstoelento
 cht/
SUMMARY:Excursie vaartocht: Paddenstoelentocht
DESCRIPTION:\n\n\nDatum/Tijd:&nbsp\;zondag 26 oktober 2025 – 13:30&nbsp\;
 –&nbsp\;15:30\n\n\n\nLocatie:&nbsp\;Bezoekerscentrum de Poelboerderij\n\
 nExcursie vaartocht:&nbsp\;Paddenstoelentocht\n\nNa eerst een korte wandel
 ing rond de Poelboerderij om te kijken welke paddenstoelen hier voorkomen\
 , gaan we met de boot het veld in. Onder leiding van een paddenstoelengids
  en met spiegeltjes en vergrootglazen gaan we bij diverse landjes uit de b
 oot om de zwammen te bekijken en wellicht te determineren. Sommige soorten
  zijn heel specifiek voor het veenweidegebied. Vooral op zure landjes met 
 veenmossen zijn de paddenstoelen heel anders dan die in de bossen staan.\n
 Laarzen en niet te mooie kleding wordt aanbevolen.\n\nExcursie vaartocht d
 oor het Wormer- en Jisperveld met gids. Vertrek: 13.30 uur.\n\nReserveren 
 is noodzakelijk en kan telefonisch&nbsp\;075-6219100&nbsp\;tot 1½ uur voo
 r vertrek of per mail (alleen op werkdagen tussen 9:00 en 16:00 uur)&nbsp\
 ;bezoekerscentrum@poelboerderij.nl&nbsp\;onder vermelding van naam\, aanta
 l personen en telefoonnummer.\n\n\n
CATEGORIES:Excursie
LOCATION:Bezoekerscentrum De Poelboerderij\, Veerdijk 106\, Wormer\, 1531 M
 B\, Wormer\, Nederland
X-APPLE-STRUCTURED-LOCATION;VALUE=URI;X-ADDRESS=Veerdijk 106\, Wormer\, 153
 1 MB\, Wormer\, Nederland;X-APPLE-RADIUS=100;X-TITLE=Bezoekerscentrum De P
 oelboerderij:geo:0,0
END:VEVENT
BEGIN:VTIMEZONE
TZID:Europe/Amsterdam
X-LIC-LOCATION:Europe/Amsterdam
BEGIN:STANDARD
DTSTART:20251026T020000
TZOFFSETFROM:+0200
TZOFFSETTO:+0100
TZNAME:CET
END:STANDARD
END:VTIMEZONE
END:VCALENDAR