BEGIN:VCALENDAR
VERSION:2.0
PRODID:-//wp-events-plugin.com//7.2.3.1//EN
TZID:Europe/Amsterdam
X-WR-TIMEZONE:Europe/Amsterdam
BEGIN:VEVENT
UID:39621@agenda-zaanstreek.nl
DTSTART;TZID=Europe/Amsterdam:20250806T133000
DTEND;TZID=Europe/Amsterdam:20250806T133000
DTSTAMP:20250717T093145Z
URL:https://agenda-zaanstreek.nl/events/excursie-vaartocht-nazomer-in-het-
 veld/
SUMMARY:Excursie vaartocht: Nazomer in het veld
DESCRIPTION:\n\n\n\n\n\nDatum/Tijd:&nbsp\;woensdag 6 augustus 2025 – 13:3
 0&nbsp\;–&nbsp\;15:30\n\nLocatie:&nbsp\;Bezoekerscentrum de Poelboerderi
 j\n\nExcursie vaartocht:&nbsp\;Nazomeren in het veld.\n\nDe meteorologisch
 e herfst is bijna begonnen. De vogels hebben hun jongen voortgebracht. Gru
 tto’s\, tureluurs en kluten zijn vertrokken naar het zuiden. De eerste\,
  vroege wintergasten arriveren. Laatbloeiende planten kleuren de oevers. D
 e rust keert langzaam maar zeker terug in het veld en dat maakt een vaarto
 cht tot een intense ervaring. Vaartocht onder leiding van een gids.\n\nExc
 ursie vaartocht door het Wormer- en Jisperveld met gids. Vertrek: 13.30 uu
 r.\n\n\nReserveren is noodzakelijk en kan telefonisch&nbsp\;075-6219100&nb
 sp\;tot 1½ uur voor vertrek of per mail (alleen op werkdagen tussen 9:00 
 en 16:00 uur)&nbsp\;bezoekerscentrum@poelboerderij.nl&nbsp\;onder vermeldi
 ng van naam\, aantal personen en telefoonnummer.\n\n\n\n\nHet tarief voor 
 een vaartocht inclusief koffie of thee:\n– volwassenen is 17\,50 euro\n
 – vrienden van de Poelboerderij 15 euro\n– kinderen t/m 12 jaar 5 euro
 \n\n\n\n
CATEGORIES:Excursie
LOCATION:Bezoekerscentrum De Poelboerderij\, Veerdijk 106\, Wormer\, 1531 M
 B\, Wormer\, Nederland
X-APPLE-STRUCTURED-LOCATION;VALUE=URI;X-ADDRESS=Veerdijk 106\, Wormer\, 153
 1 MB\, Wormer\, Nederland;X-APPLE-RADIUS=100;X-TITLE=Bezoekerscentrum De P
 oelboerderij:geo:0,0
END:VEVENT
BEGIN:VTIMEZONE
TZID:Europe/Amsterdam
X-LIC-LOCATION:Europe/Amsterdam
BEGIN:DAYLIGHT
DTSTART:20250330T030000
TZOFFSETFROM:+0100
TZOFFSETTO:+0200
TZNAME:CEST
END:DAYLIGHT
END:VTIMEZONE
END:VCALENDAR