BEGIN:VCALENDAR
VERSION:2.0
PRODID:-//wp-events-plugin.com//7.2.3.1//EN
TZID:Europe/Amsterdam
X-WR-TIMEZONE:Europe/Amsterdam
BEGIN:VEVENT
UID:39086@agenda-zaanstreek.nl
DTSTART;TZID=Europe/Amsterdam:20250613T200000
DTEND;TZID=Europe/Amsterdam:20250613T220000
DTSTAMP:20250605T095056Z
URL:https://agenda-zaanstreek.nl/events/excursie-vaartocht-meditatieavond-
 in-samenwerking-met-yoga-bij-danielle/
SUMMARY:Excursie vaartocht Meditatieavond in samenwerking met Yoga bij Dan
 ielle
DESCRIPTION:Datum/Tijd:&nbsp\;vrijdag 13 juni 2025 – 20:00&nbsp\;– 22:0
 0\n\nLocatie:&nbsp\;Bezoekerscentrum de Poelboerderij\n\nExcursie vaartoch
 t:&nbsp\;Meditatieavond in samenwerking met Yoga bij Danielle\n\nMeditatie
  is verwelkomen dat wat is. Je openstellen door naar binnen te gaan. We st
 ellen ons open voor de natuur en dat doen we in het Wormer- en Jisperveld.
  Om 20:00 uur zullen we vanaf de Poelboerderij met een boot afvaren en lat
 en we ons leiden door de natuur. De meditatie zal of aan boord of ergens i
 n het veld plaatsvinden. Na ongeveer 2 uur komen we terug bij De Poelboerd
 erij en staat er een kopje thee klaar.\n\nMinimaal aantal deelnemers 6\, m
 aximaal 20\n\nMeenemen: Kleding\, aangepast aan het weer. Tijdens de vaart
 ocht kan het wat frisser zijn\n\nIets om op te mediteren\, een handdoek of
  kleed is prima.\n\n\nReserveren is noodzakelijk en kan telefonisch&nbsp\;
 075-6219100&nbsp\;tot 1½ uur voor vertrek of per mail (alleen op werkdage
 n tussen 9:00 en 16:00 uur)&nbsp\;bezoekerscentrum@poelboerderij.nl&nbsp\;
 onder vermelding van naam\, aantal personen en telefoonnummer.\n\n\n\n\nHe
 t tarief voor een vaartocht inclusief koffie of thee:\n\n– volwassenen i
 s 17\,50 euro\n– vrienden van de Poelboerderij 15 euro\n– kinderen t/m
  12 jaar 5 euro\n\n
CATEGORIES:Excursie,Spiritueel
LOCATION:Bezoekerscentrum De Poelboerderij\, Veerdijk 106\, Wormer\, 1531 M
 B\, Wormer\, Nederland
X-APPLE-STRUCTURED-LOCATION;VALUE=URI;X-ADDRESS=Veerdijk 106\, Wormer\, 153
 1 MB\, Wormer\, Nederland;X-APPLE-RADIUS=100;X-TITLE=Bezoekerscentrum De P
 oelboerderij:geo:0,0
END:VEVENT
BEGIN:VTIMEZONE
TZID:Europe/Amsterdam
X-LIC-LOCATION:Europe/Amsterdam
BEGIN:DAYLIGHT
DTSTART:20250330T030000
TZOFFSETFROM:+0100
TZOFFSETTO:+0200
TZNAME:CEST
END:DAYLIGHT
END:VTIMEZONE
END:VCALENDAR