BEGIN:VCALENDAR
VERSION:2.0
PRODID:-//wp-events-plugin.com//7.2.3.1//EN
TZID:Europe/Amsterdam
X-WR-TIMEZONE:Europe/Amsterdam
BEGIN:VEVENT
UID:38178@agenda-zaanstreek.nl
DTSTART;TZID=Europe/Amsterdam:20250427T133000
DTEND;TZID=Europe/Amsterdam:20250427T153000
DTSTAMP:20250410T090843Z
URL:https://agenda-zaanstreek.nl/events/excursie-vaartocht-little-big-4-sa
 fari-2/
SUMMARY:Excursie vaartocht - Little Big 4 safari
DESCRIPTION:atum/Tijd:&nbsp\;zondag\, 27 april 2025-&nbsp\;13:30 – 15:30\
 n\nLocatie:&nbsp\;Bezoekerscentrum de Poelboerderij\n\nExcursie vaartocht:
 &nbsp\;&nbsp\;Little Big 4 safari\n\nWe gaan op zoek naar de ‘Little Big
  4’: onze Nationale Vogel de grutto\, en de tureluur\, kievit en scholek
 ster. Het Natura2000-gebied Wormer- en Jisperveld heeft als opdracht deze 
 soorten te faciliteren zodat hun aantallen kunnen toenemen. We gaan tijden
 s deze excursie op zoek naar deze vier weidevogels (hoewel de scholekster 
 daar iets van afwijkt)\, leren ze te herkennen op de grond\, in de lucht e
 n aan hun geluid. Wat is hun ideale leefomgeving\, wat zijn de bedreiginge
 n en hoe ver vliegen ze wel niet?\n\n\nReserveren is noodzakelijk en kan t
 elefonisch&nbsp\;075-6219100&nbsp\;tot 1½ uur voor vertrek of per mail (a
 lleen op werkdagen tussen 9:00 en 16:00 uur)&nbsp\;bezoekerscentrum@poelbo
 erderij.nl&nbsp\;onder vermelding van naam\, aantal personen en telefoonnu
 mmer.\n\n\nHet tarief voor een vaartocht inclusief koffie of thee:\n– vo
 lwassenen is 17\,50 euro\n– vrienden van de Poelboerderij 15 euro\n– k
 inderen t/m 12 jaar 5 euro\n\n\n
CATEGORIES:Excursie
LOCATION:Bezoekerscentrum De Poelboerderij\, Veerdijk 106\, Wormer\, 1531 M
 B\, Wormer\, Nederland
X-APPLE-STRUCTURED-LOCATION;VALUE=URI;X-ADDRESS=Veerdijk 106\, Wormer\, 153
 1 MB\, Wormer\, Nederland;X-APPLE-RADIUS=100;X-TITLE=Bezoekerscentrum De P
 oelboerderij:geo:0,0
END:VEVENT
BEGIN:VTIMEZONE
TZID:Europe/Amsterdam
X-LIC-LOCATION:Europe/Amsterdam
BEGIN:DAYLIGHT
DTSTART:20250330T030000
TZOFFSETFROM:+0100
TZOFFSETTO:+0200
TZNAME:CEST
END:DAYLIGHT
END:VTIMEZONE
END:VCALENDAR