BEGIN:VCALENDAR
VERSION:2.0
PRODID:-//wp-events-plugin.com//7.2.3.1//EN
TZID:Europe/Amsterdam
X-WR-TIMEZONE:Europe/Amsterdam
BEGIN:VEVENT
UID:39620@agenda-zaanstreek.nl
DTSTART;TZID=Europe/Amsterdam:20250801T200000
DTEND;TZID=Europe/Amsterdam:20250801T220000
DTSTAMP:20250717T093030Z
URL:https://agenda-zaanstreek.nl/events/excursie-vaartocht-het-veld-in-de-
 avond-3/
SUMMARY:Excursie vaartocht: Het veld in de avond
DESCRIPTION:\n\n\n\n\n\nDatum/Tijd:&nbsp\;vrijdag 1 augustus 2025 – 20:00
  – 22:00 uur\n\nLocatie:&nbsp\;Bezoekerscentrum de Poelboerderij\n\nExcu
 rsie vaartocht:&nbsp\;Het veld in de avond\n\nDe late zomeravonden lenen z
 ich bij uitstek om even te genieten in het Wormer- en Jisperveld.\n\nEven 
 weg van de drukte genieten van de avond die rust over de omgeving brengt. 
 Terwijl het begint te schemeren en de zon ondergaat genieten van de intens
 e kleuren en het afnemende licht waar fotografen dol op zijn. De dagdieren
  zoeken hun schuilplaats en de dieren van de nacht worden actief\n\nExcurs
 ie vaartocht door het Wormer- en Jisperveld met gids. Vertrek: 20:00 uur.\
 n\n\nReserveren is noodzakelijk en kan telefonisch&nbsp\;075-6219100&nbsp\
 ;tot 1½ uur voor vertrek of per mail (alleen op werkdagen tussen 9:00 en 
 16:00 uur)&nbsp\;bezoekerscentrum@poelboerderij.nl&nbsp\;onder vermelding 
 van naam\, aantal personen en telefoonnummer.\n\n\nHet tarief voor een vaa
 rtocht inclusief koffie of thee:\n– volwassenen is 17\,50 euro\n– vrie
 nden van de Poelboerderij 15 euro\n– kinderen t/m 12 jaar 5 euro\n\n\n\n
 \n
CATEGORIES:Excursie
LOCATION:Bezoekerscentrum De Poelboerderij\, Veerdijk 106\, Wormer\, 1531 M
 B\, Wormer\, Nederland
X-APPLE-STRUCTURED-LOCATION;VALUE=URI;X-ADDRESS=Veerdijk 106\, Wormer\, 153
 1 MB\, Wormer\, Nederland;X-APPLE-RADIUS=100;X-TITLE=Bezoekerscentrum De P
 oelboerderij:geo:0,0
END:VEVENT
BEGIN:VTIMEZONE
TZID:Europe/Amsterdam
X-LIC-LOCATION:Europe/Amsterdam
BEGIN:DAYLIGHT
DTSTART:20250330T030000
TZOFFSETFROM:+0100
TZOFFSETTO:+0200
TZNAME:CEST
END:DAYLIGHT
END:VTIMEZONE
END:VCALENDAR