BEGIN:VCALENDAR
VERSION:2.0
PRODID:-//wp-events-plugin.com//7.2.3.1//EN
TZID:Europe/Amsterdam
X-WR-TIMEZONE:Europe/Amsterdam
BEGIN:VEVENT
UID:38970@agenda-zaanstreek.nl
DTSTART;TZID=Europe/Amsterdam:20250607T040000
DTEND;TZID=Europe/Amsterdam:20250607T060000
DTSTAMP:20250529T095228Z
URL:https://agenda-zaanstreek.nl/events/excursie-vaartocht-dauwtrappen-met
 -luilak/
SUMMARY:Excursie vaartocht - Dauwtrappen met Luilak
DESCRIPTION:Datum/Tijd:&nbsp\;zaterdag 7 juni 2025 – 04:00 – 06:00\n\nL
 ocatie:&nbsp\;Bezoekerscentrum de Poelboerderij\n\nExcursie vaartocht:&nbs
 p\;Dauwtrappen met Luilak\n\nLuilak oftewel looielak (langslaper) wordt ge
 vierd op de zaterdag voor pinkster. Een ochtend waarop iedereen zo vroeg m
 ogelijk opstaat om veel herrie te maken en het luilakvuur te ontsteken. In
  de vroege ochtend is het ontwaken van het natuurleven in het veld een bij
 zondere ervaring. Het licht is nog diffuus. Maar de vogels laten zich nu h
 et meeste zien en vooral horen! Wie weet ook de hoempende roep van de roer
 domp. Maar in ieder geval de zang van blauwborsten\, karekieten\, rietzang
 ers\, rietgorzen en veldleeuweriken. Spannend.\n\nDeze excursie duurt 2 uu
 r.\n\nExcursie vaartocht door het Wormer- en Jisperveld.&nbsp\; Vertrek: 0
 4:00 uur.\n\n\nReserveren is noodzakelijk en kan telefonisch&nbsp\;075-621
 9100&nbsp\;of per mail&nbsp\;bezoekerscentrum@poelboerderij.nl&nbsp\;onder
  vermelding van naam\, aantal personen en telefoonnummer. (Via mail aanmel
 den alleen op werkdagen tussen 9:00 en 16:00.)\n\n\n\n\nReserveren kan tot
  vrijdag 6 juni 16:00 uur.\n\nHet tarief voor een vaartocht inclusief koff
 ie of thee:\n– volwassenen is 17\,50 euro\n– vrienden van de Poelboerd
 erij 15 euro\n– kinderen t/m 12 jaar 5 euro\n\n
CATEGORIES:Excursie
LOCATION:Bezoekerscentrum De Poelboerderij\, Veerdijk 106\, Wormer\, 1531 M
 B\, Wormer\, Nederland
X-APPLE-STRUCTURED-LOCATION;VALUE=URI;X-ADDRESS=Veerdijk 106\, Wormer\, 153
 1 MB\, Wormer\, Nederland;X-APPLE-RADIUS=100;X-TITLE=Bezoekerscentrum De P
 oelboerderij:geo:0,0
END:VEVENT
BEGIN:VTIMEZONE
TZID:Europe/Amsterdam
X-LIC-LOCATION:Europe/Amsterdam
BEGIN:DAYLIGHT
DTSTART:20250330T030000
TZOFFSETFROM:+0100
TZOFFSETTO:+0200
TZNAME:CEST
END:DAYLIGHT
END:VTIMEZONE
END:VCALENDAR