BEGIN:VCALENDAR
VERSION:2.0
PRODID:-//wp-events-plugin.com//7.2.3.1//EN
TZID:Europe/Amsterdam
X-WR-TIMEZONE:Europe/Amsterdam
BEGIN:VEVENT
UID:39109@agenda-zaanstreek.nl
DTSTART;TZID=Europe/Amsterdam:20250625T190000
DTEND;TZID=Europe/Amsterdam:20250625T210000
DTSTAMP:20250612T074530Z
URL:https://agenda-zaanstreek.nl/events/excursie-protestantse-kerk-van-wor
 merveer/
SUMMARY:Excursie Protestantse Kerk van Wormerveer
DESCRIPTION:\n\nDe Hervormde Kerk aan het Noordeinde in Wormerveer is een h
 istorisch kerkgebouw uit 1639. Eerder stond hier een RK kapel die in 1574 
 werd\, tijdens de Tachtigjarige Oorlog\, verwoest. Oorspronkelijk was het 
 een eenbeukige kerk\, die in 1767 werd uitgebreid met een zuidelijke dwars
 arm De plattegrond werd daardoor T-vormig. De zuidelijke gevel is versierd
  met rococo-elementen en een rond venster dat tevens dienst doet als zonne
 wijzer. In de toren hangt een door Hemony gegoten klok uit 1662. In de Twe
 ede Wereldoorlog werd deze klok verwijderd\, maar na de oorlog teruggeplaa
 tst. Het interieur bevat onder andere een doophek in Lodewijk XVI-stijl en
  een orgel uit 1846 van H. Knipscheer\, dat in 1983 werd gerestaureerd.\n\
 nTegenwoordig is de kerk in gebruik bij de Protestantse Gemeente Wormervee
 r\, die onderdeel is van de Protestantse Kerk in Nederland (PKN).\n\nHet k
 erkgebouw is rijksmonument.\n\nHet adres van de Wormerveerse Protestantse 
 Kerk is:\n\nNoordeinde 21\, 1521 PA&nbsp\; Wormerveer.\n\nDe ontvangst op 
 25 juni is vanaf 18.30 uur in de Kosterij naast de kerk. Om 19.00 uur geef
 t Han Eelman daar een presentatie met aansluitend een excursie binnen en b
 uiten de kerk. De excursie zal tot maximaal 21.00 uur duren.\n\nVoor de vo
 orbereiding van de bijeenkomst vinden wij het prettig als u zich aanmeldt 
 via ngvzaanstreekw@gmail.com of secretaris-zwa@ngv.nl\n\nTot ziens op 25 j
 uni in Wormerveer!
CATEGORIES:Erfgoed,Excursie
LOCATION:Kerk Noordeinde Wormerveer / De Kosterij\, Noordeinde 20\, Wormerv
 eer\, 1521 PA\, Nederland
X-APPLE-STRUCTURED-LOCATION;VALUE=URI;X-ADDRESS=Noordeinde 20\, Wormerveer\
 , 1521 PA\, Nederland;X-APPLE-RADIUS=100;X-TITLE=Kerk Noordeinde Wormervee
 r / De Kosterij:geo:0,0
END:VEVENT
BEGIN:VTIMEZONE
TZID:Europe/Amsterdam
X-LIC-LOCATION:Europe/Amsterdam
BEGIN:DAYLIGHT
DTSTART:20250330T030000
TZOFFSETFROM:+0100
TZOFFSETTO:+0200
TZNAME:CEST
END:DAYLIGHT
END:VTIMEZONE
END:VCALENDAR