BEGIN:VCALENDAR
VERSION:2.0
PRODID:-//wp-events-plugin.com//7.2.3.1//EN
TZID:Europe/Amsterdam
X-WR-TIMEZONE:Europe/Amsterdam
BEGIN:VEVENT
UID:38980@agenda-zaanstreek.nl
DTSTART;TZID=Europe/Amsterdam:20250901T200000
DTEND;TZID=Europe/Amsterdam:20250901T220000
DTSTAMP:20250529T102246Z
URL:https://agenda-zaanstreek.nl/events/evolueren-wij-nog-door-nico-van-st
 raalen/
SUMMARY:Evolueren wij nog - door Nico van Straalen
DESCRIPTION:\n\n\n\nLezing van 't Nut\; TOEGANGSKAARTEN RESERVEREN UITSLUIT
 END VIA ’T NUT\n\n\nPowered by&nbsp\;WeTicket\n\n\n\n\n\n\n\n\n\nDetails
 \nmaandag 1 sep 2025\, 20:00 - maandag 1 sep 2025\, 22:00\n\n\nTOEGANGSKAA
 RTEN RESERVEREN UITSLUITEND VIA ’T NUT / in de Wormerveerse Vermaning\, 
 Zaanweg 57\, Wormerveer\n\n\n\n\n\nEr zit een aap in ons lichaam\, een zoo
 gdier en een vis\, ook nog resten van een worm en zelfs nog stukjes bacter
 ie. Ons lichaam is het product van een lange evolutie\, die zijn beslag kr
 eeg toen de Homo sapiens ontstond\, 320.000 jaar geleden. Maar de evolutie
  gaat nog steeds door. Welke veranderingen kunnen we verwachten in de toek
 omst? Hoe ziet ons lichaam eruit over 500 duizend jaar?\n\nNico M. van Str
 aalen&nbsp\;is emeritus Hoogleraar Dierecologie aan de Vrije Universiteit 
 Amsterdam\, schrijver van “Evolueren wij nog” (AUP\, 2017)\, “Encycl
 opedie van de Evolutiebiologie” (Ensie\, 2019) en “Human Evolution and
  Development" (AUP\, 2019).\n\n• Toegangsprijs voor leden van 't NUT gra
 tis\n• Toegangsprijs voor niet-leden € 10\,00\n\nKLIK HIER voor reserv
 eren TOEGANGSKAARTEN - uitsluitend via ’t Nut\n\n\n\n\n\n
CATEGORIES:Lezing
LOCATION:Wormerveerse Vermaning\, Zaanweg 57\, Wormerveer\, 1521 DM\, Neder
 land
X-APPLE-STRUCTURED-LOCATION;VALUE=URI;X-ADDRESS=Zaanweg 57\, Wormerveer\, 1
 521 DM\, Nederland;X-APPLE-RADIUS=100;X-TITLE=Wormerveerse Vermaning:geo:0
 ,0
END:VEVENT
BEGIN:VTIMEZONE
TZID:Europe/Amsterdam
X-LIC-LOCATION:Europe/Amsterdam
BEGIN:DAYLIGHT
DTSTART:20250330T030000
TZOFFSETFROM:+0100
TZOFFSETTO:+0200
TZNAME:CEST
END:DAYLIGHT
END:VTIMEZONE
END:VCALENDAR