BEGIN:VCALENDAR
VERSION:2.0
PRODID:-//wp-events-plugin.com//7.2.3.1//EN
TZID:Europe/Amsterdam
X-WR-TIMEZONE:Europe/Amsterdam
BEGIN:VEVENT
UID:38018@agenda-zaanstreek.nl
DTSTART;TZID=Europe/Amsterdam:20250413T150000
DTEND;TZID=Europe/Amsterdam:20250413T150000
DTSTAMP:20250328T103705Z
URL:https://agenda-zaanstreek.nl/events/eva-hoeke-in-gesprek-met-p-f-thome
 se/
SUMMARY:Eva Hoeke in gesprek met.. P.F. Thomése
DESCRIPTION:\n\n13 april om 15:00\n\n\n\n\nDe Vermaning en 't Nut organiser
 en samen LITERAIRE MIDDAGEN in de Wormerveerse Vermaning\, Zaanweg 57\, Wo
 rmerveer\n\n\nP.F. Thomése is een van de veelzijdigste schrijvers van ons
  taalgebied. Hij is romancier\, essayist\, polemist\, verhalenverteller en
  scherp cultuurcriticus. Zijn werk is veelvuldig genomineerd en bekroond e
 n werd in meer dan twintig talen vertaald.\n\nThomése was van 1979-1984 r
 edacteur en verslaggever bij het Eindhovens Dagblad. Later schreef hij voo
 r onder meer De Tijd\, NRC Handelsblad en Vrij Nederland en was hij drie j
 aar lang redacteur van De Revisor.\nZijn debuut\, de verhalenbundel Zuidla
 nd\, werd direct bekroond met een grote literaire prijs: de AKO Literatuur
 prijs. Hierna volgden meer bundels\, romans en essays. Zijn bekendste boek
 en zijn Schaduwkind (een non-fictieboek over de dood van zijn dochtertje)\
 , De onderwaterzwemmer (een roman over een man wiens vader in de Tweede We
 reldoorlog spoorloos verdween) en de schelmenromans rond het personage J. 
 Kessels.\n\n• Toegangsprijs voor leden van 't NUT € 15\n• Toegangspr
 ijs voor niet-leden € 18\,50\n
CATEGORIES:Theatercolleges &amp; Salons
LOCATION:Wormerveerse Vermaning\, Zaanweg 57\, Wormerveer\, 1521 DM\, Neder
 land
X-APPLE-STRUCTURED-LOCATION;VALUE=URI;X-ADDRESS=Zaanweg 57\, Wormerveer\, 1
 521 DM\, Nederland;X-APPLE-RADIUS=100;X-TITLE=Wormerveerse Vermaning:geo:0
 ,0
END:VEVENT
BEGIN:VTIMEZONE
TZID:Europe/Amsterdam
X-LIC-LOCATION:Europe/Amsterdam
BEGIN:DAYLIGHT
DTSTART:20250330T030000
TZOFFSETFROM:+0100
TZOFFSETTO:+0200
TZNAME:CEST
END:DAYLIGHT
END:VTIMEZONE
END:VCALENDAR