BEGIN:VCALENDAR
VERSION:2.0
PRODID:-//wp-events-plugin.com//7.2.3.1//EN
TZID:Europe/Amsterdam
X-WR-TIMEZONE:Europe/Amsterdam
BEGIN:VEVENT
UID:35346@agenda-zaanstreek.nl
DTSTART;TZID=Europe/Amsterdam:20241117T150000
DTEND;TZID=Europe/Amsterdam:20241117T150000
DTSTAMP:20241017T102856Z
URL:https://agenda-zaanstreek.nl/events/eva-hoeke-in-gesprek-met-nico-dijk
 shoorn/
SUMMARY:Eva Hoeke in gesprek met.. Nico Dijkshoorn
DESCRIPTION:\n\n17 november om 15:00\n\n\n\n\nDe Vermaning en 't Nut organi
 seren samen LITERAIRE MIDDAGEN in de Wormerveerse Vermaning\, Zaanweg 57\,
  Wormerveer\n\n\nStond hij vorig jaar met zijn verhalen met Tim Knol in de
  Vermaning dit keer wordt hij door Eva Hoeke geïnterviewd.\n\nNico Dijksh
 oorn is vooral bekend van zijn werk als huisdichter bij De Wereld Draait D
 oor.\nNaast zijn televisiewerk is hij vooral columnist. Hij begon eind jar
 en negentig als schrijver op blogs als FOK! en GeenStijl. Daarna werd hij 
 door de Volkskrant gevraagd om sportcolumns te schrijven. Hiermee werd hij
  bekend bij het grote publiek. Hij schrijft ook voor televisieprogramma’
 s\, waaronder Draadstaal. Dijkshoorn schrijft wekelijks voor Het Parool en
  Libelle.\n\nIn 2009 verscheen Dijkshoorns eerste roman: De tranen van Kui
 f den Dolder. Het boek gaat over de fictieve legendarische voetballer Kuif
  den Dolder en is opgebouwd als documentaire. In 2012 volgde zijn tweede r
 oman\, Nooit ziek geweest\, waarin Dijkshoorn in 49 hoofdstukken herinneri
 ngen ophaalt aan zijn vader. In 2014 kwam zijn derde roman uit\, getiteld 
 In zijn nabijheid. Het verhaal gaat over een man\, wiens leven wordt besch
 reven door 32 vrouwen.\nDijkshoorn maakte een audiotour voor het Kroller M
 uller museum. Die is\, op veler verzoek\, ook als boek verschenen onder de
  titel Dijkshoorn Kijkt Kunst (2013). Naast zijn teksten zijn ook de kunst
 werken te zien.\nIn 2019 kreeg Dijkshoorn door een beroerte. Over die peri
 ode en de dood van zijn moeder schreef hij het boek Ooit Gelukkig\, dat ka
 n worden gelezen als een vervolg op het boek over zijn vader\, Nooit Ziek 
 Geweest.\nDijkshoorn publiceerde in 2022 zijn roman Bijna Op De Radio.\n\n
 Dijkshoorn toert nog steeds met zijn teksten door het land\, vaak terzijde
  gestaan door zijn band The Hank Five.\nOp dit moment werkt hij aan twee n
 ieuwe boeken.\n\n• Toegangsprijs voor leden van 't NUT € 15\n• Toega
 ngsprijs voor niet-leden € 18\,50\n\nZaal open: 14.30 uur\n
CATEGORIES:Theatercolleges &amp; Salons
LOCATION:Wormerveerse Vermaning\, Zaanweg 57\, Wormerveer\, 1521 DM\, Neder
 land
X-APPLE-STRUCTURED-LOCATION;VALUE=URI;X-ADDRESS=Zaanweg 57\, Wormerveer\, 1
 521 DM\, Nederland;X-APPLE-RADIUS=100;X-TITLE=Wormerveerse Vermaning:geo:0
 ,0
END:VEVENT
BEGIN:VTIMEZONE
TZID:Europe/Amsterdam
X-LIC-LOCATION:Europe/Amsterdam
BEGIN:STANDARD
DTSTART:20241027T020000
TZOFFSETFROM:+0200
TZOFFSETTO:+0100
TZNAME:CET
END:STANDARD
END:VTIMEZONE
END:VCALENDAR