BEGIN:VCALENDAR
VERSION:2.0
PRODID:-//wp-events-plugin.com//7.2.3.1//EN
TZID:Europe/Amsterdam
X-WR-TIMEZONE:Europe/Amsterdam
BEGIN:VEVENT
UID:36357@agenda-zaanstreek.nl
DTSTART;TZID=Europe/Amsterdam:20250216T150000
DTEND;TZID=Europe/Amsterdam:20250216T150000
DTSTAMP:20241212T110624Z
URL:https://agenda-zaanstreek.nl/events/eva-hoeke-in-gesprek-met-jan-brokk
 en/
SUMMARY:Eva Hoeke in gesprek met.. Jan Brokken
DESCRIPTION:\n\nDe Vermaning en 't Nut organiseren samen LITERAIRE MIDDAGEN
  in de Wormerveerse Vermaning\, Zaanweg 57\, Wormerveer\n\n\n\n\nJan Brokk
 en (1949) creëerde min of meer een eigen genre\, waarin hij non-fictie\, 
 fictie en biografie met elkaar mengt. Brokkens stijl wordt geprezen om de 
 sobere beschrijvingen\, bondige dialogen\, kernachtige typeringen\, humor 
 en zelfspot. Met 'Mijn kleine waanzin' en 'In het huis van de dichter' maa
 kte hij een aangrijpend tweeluik van zijn jeugd. Als domineeszoon kreeg hi
 j te maken met de geloofstwisten op het Zuid-Hollandse platteland. Hij von
 d de bevrijding in Amsterdam\, waar hij vriendschap sloot met de Russische
  pianist Youri Egorov.\nIn 2024 verscheen 'De ontdekking van Holland' over
  de vergeten geschiedenis van het Volendamse kunstenaarshotel Spaander.•
  Toegangsprijs voor leden van 't NUT € 15\n• Toegangsprijs voor niet-l
 eden € 18\,50\n\nZaal open: 14.30 uur\n\n\n
CATEGORIES:Theatercolleges &amp; Salons
LOCATION:Wormerveerse Vermaning\, Zaanweg 57\, Wormerveer\, 1521 DM\, Neder
 land
X-APPLE-STRUCTURED-LOCATION;VALUE=URI;X-ADDRESS=Zaanweg 57\, Wormerveer\, 1
 521 DM\, Nederland;X-APPLE-RADIUS=100;X-TITLE=Wormerveerse Vermaning:geo:0
 ,0
END:VEVENT
BEGIN:VTIMEZONE
TZID:Europe/Amsterdam
X-LIC-LOCATION:Europe/Amsterdam
BEGIN:STANDARD
DTSTART:20241027T020000
TZOFFSETFROM:+0200
TZOFFSETTO:+0100
TZNAME:CET
END:STANDARD
END:VTIMEZONE
END:VCALENDAR