BEGIN:VCALENDAR
VERSION:2.0
PRODID:-//wp-events-plugin.com//7.2.3.1//EN
TZID:Europe/Amsterdam
X-WR-TIMEZONE:Europe/Amsterdam
BEGIN:VEVENT
UID:39147@agenda-zaanstreek.nl
DTSTART;TZID=Europe/Amsterdam:20250620T210000
DTEND;TZID=Europe/Amsterdam:20250620T210000
DTSTAMP:20250612T100643Z
URL:https://agenda-zaanstreek.nl/events/euphorik-throwbackz-2k12-2k16%e2%8
 0%b3/
SUMMARY:Euphorik Throwbackz ‘2k12 – 2k16″
DESCRIPTION:\n\n\n\n\n\n\n\n\n\n 	\n&nbsp\;\n 	\n\nvrijdag\, jun 20\, 2025O
 pen: 20:30Aanvang: 21:00Prijs: VVK: €5\,- Deur: €7\,50\n\n\n\n\n“Thi
 s Shii goes Way Beyond”\nEen nacht lang zwevende Melodieën\, bekende me
 ezingers &amp\; Crunch Kicks.\n20 Juni is het tijd voor een nieuw concept 
 in de Groote Weiver Wormerveer wat volledig in teken staat van Euphoric Ha
 rdstyle uit de gloriedagen 2012 – 2016. Met 2 acts die de betere platen 
 in de tijd hebben gemaakt &amp\; beide releases hebben gehad op het label 
 Dirty Workz. Dus we graag terug naar minimaal 9 jaar geleden met Euphorik 
 Throwbackz ‘2k12 – 2k16″\nLineup:THE VISIONNEILIOEstalocaThe DizZord
 erShadowPhaxxKosh DJ Team\nVvk: €5\,-\n\n\n\n\n\n
CATEGORIES:Muziek
LOCATION:De Groote Weiver\, Industrieweg 1a\, Wormerveer\, 1521 NA\, Wormer
 veer\, Nederland
X-APPLE-STRUCTURED-LOCATION;VALUE=URI;X-ADDRESS=Industrieweg 1a\, Wormervee
 r\, 1521 NA\, Wormerveer\, Nederland;X-APPLE-RADIUS=100;X-TITLE=De Groote 
 Weiver:geo:0,0
END:VEVENT
BEGIN:VTIMEZONE
TZID:Europe/Amsterdam
X-LIC-LOCATION:Europe/Amsterdam
BEGIN:DAYLIGHT
DTSTART:20250330T030000
TZOFFSETFROM:+0100
TZOFFSETTO:+0200
TZNAME:CEST
END:DAYLIGHT
END:VTIMEZONE
END:VCALENDAR