BEGIN:VCALENDAR
VERSION:2.0
PRODID:-//wp-events-plugin.com//7.2.3.1//EN
TZID:Europe/Amsterdam
X-WR-TIMEZONE:Europe/Amsterdam
BEGIN:VEVENT
UID:36359@agenda-zaanstreek.nl
DTSTART;TZID=Europe/Amsterdam:20250414T200000
DTEND;TZID=Europe/Amsterdam:20250414T200000
DTSTAMP:20241212T110932Z
URL:https://agenda-zaanstreek.nl/events/erik-schaap-geinterviewd-door-ed-p
 ielkenrood-over-zijn-boek-ge-franken/
SUMMARY:Erik Schaap\; Geïnterviewd door Ed Pielkenrood over zijn boek: Gé
  Franken
DESCRIPTION:\n&nbsp\;\n\n\nTOEGANGSKAARTEN RESERVEREN UITSLUITEND VIA ’T 
 NUT / in de Wormerveerse Vermaning\, Zaanweg 57\, Wormerveer\n\n\n&nbsp\;\
 n“Gé Franken. Verzetsstrijder\, burgemeester\, zakenman”.\nIn 2024 pu
 bliceerde Erik Schaap op verzoek van diens zoon Rob en met medewerking van
  dochter Annemieke een boek over het leven van Gerrit Johan Daniël Franke
 n (1920-1994).\nEd Pielkenrood interviewt de auteur en de twee kinderen va
 n Gé Franken over deze geboren en getogen Deventenaar.\nHij was tijdens d
 e Tweede Wereldoorlog een grootheid binnen het Nederlandse verzet. Na de b
 evrijding gaf hij leiding aan de Explosieven Opruimings Dienst en aan de O
 rganisatie Bescherming Bevolking. Franken werd burgemeester van Zaandam en
  directeur van Bruynzeel. En dat is nog maar een klein deel van de vele fu
 ncties die deze Overijsselse Zaankanter uitoefende.\nHoe kan het dat deze 
 onverschrokken leidsman desondanks zo weinig bekendheid genoot? Dat en mee
 r komt\nuitgebreid ter sprake.\n\n• Toegangsprijs voor leden van 't NUT 
 gratis\n• Toegangsprijs voor niet-leden € 10\,00\n\nTOEGANGSKAARTEN RE
 SERVEREN UITSLUITEND VIA ’T NUT\nhttps://nutzaanstad.nl/events/list/\n\n
 Zaal open: 19.30 uur\n
CATEGORIES:Theatercolleges &amp; Salons
LOCATION:Wormerveerse Vermaning\, Zaanweg 57\, Wormerveer\, 1521 DM\, Neder
 land
X-APPLE-STRUCTURED-LOCATION;VALUE=URI;X-ADDRESS=Zaanweg 57\, Wormerveer\, 1
 521 DM\, Nederland;X-APPLE-RADIUS=100;X-TITLE=Wormerveerse Vermaning:geo:0
 ,0
END:VEVENT
BEGIN:VTIMEZONE
TZID:Europe/Amsterdam
X-LIC-LOCATION:Europe/Amsterdam
BEGIN:DAYLIGHT
DTSTART:20250330T030000
TZOFFSETFROM:+0100
TZOFFSETTO:+0200
TZNAME:CEST
END:DAYLIGHT
END:VTIMEZONE
END:VCALENDAR