BEGIN:VCALENDAR
VERSION:2.0
PRODID:-//wp-events-plugin.com//7.2.3.1//EN
TZID:Europe/Amsterdam
X-WR-TIMEZONE:Europe/Amsterdam
BEGIN:VEVENT
UID:36107@agenda-zaanstreek.nl
DTSTART;TZID=Europe/Amsterdam:20250209T110000
DTEND;TZID=Europe/Amsterdam:20250209T110000
DTSTAMP:20241204T090329Z
URL:https://agenda-zaanstreek.nl/events/er-was-weer-roodkapje/
SUMMARY:Er was weer… Roodkapje
DESCRIPTION:\n\nJeugdtheater (6+) in de Wormerveerse Vermaning\, Zaanweg 57
 \, Wormerveer\n\n\n\n\nNatuurlijk weet iedereen wat er met Roodkapje is ge
 beurd: ze liep door het bos met koekjes voor oma. Daar kwam ze een wolf te
 gen en voor ze het wist was ze opgegeten. Gelukkig kwam de jager langs die
  haar en grootmoeder uit de buik van de wolf redde. En de wolf eindigde in
  de put. En ze leefden nog lang en gelukkig. Einde! Of toch niet?\nMaar wa
 t gebeurde er daarna? Dat verhaal ken je nog niet!\nDe wolf wil niet meer 
 groot en boos zijn\, maar groot en vriendelijk. Maar niemand gelooft hem e
 n hij zit nog vast in de put. Totdat Roodkapje besluit dat ze de wolf wil 
 helpen om alles goed te maken.\nMaar hoe doe je dat\, goedmaken? En zal ie
 dereen de wolf wel geloven?\nEen cabareteske en muzikale familievoorstelli
 ng over goedmaken\, bang zijn en wolven.\nScript\, muziek &amp\; regie: Ma
 rc Nochem &amp\; Daphne Groot• Toegangsprijs voor kinderen € 5\n• To
 egangsprijs voor volwassenen € 10\,00\nZaal open: 10.30 uur\n
CATEGORIES:Jeugd,Theater
LOCATION:Wormerveerse Vermaning\, Zaanweg 57\, Wormerveer\, 1521 DM\, Neder
 land
X-APPLE-STRUCTURED-LOCATION;VALUE=URI;X-ADDRESS=Zaanweg 57\, Wormerveer\, 1
 521 DM\, Nederland;X-APPLE-RADIUS=100;X-TITLE=Wormerveerse Vermaning:geo:0
 ,0
END:VEVENT
BEGIN:VTIMEZONE
TZID:Europe/Amsterdam
X-LIC-LOCATION:Europe/Amsterdam
BEGIN:STANDARD
DTSTART:20241027T020000
TZOFFSETFROM:+0200
TZOFFSETTO:+0100
TZNAME:CET
END:STANDARD
END:VTIMEZONE
END:VCALENDAR