BEGIN:VCALENDAR
VERSION:2.0
PRODID:-//wp-events-plugin.com//7.2.3.1//EN
TZID:Europe/Amsterdam
X-WR-TIMEZONE:Europe/Amsterdam
BEGIN:VEVENT
UID:40398@agenda-zaanstreek.nl
DTSTART;TZID=Europe/Amsterdam:20251012T103000
DTEND;TZID=Europe/Amsterdam:20251012T103000
DTSTAMP:20251009T095524Z
URL:https://agenda-zaanstreek.nl/events/ensembledag-in-de-jisper-kerk/
SUMMARY:Ensembledag in de Jisper Kerk
DESCRIPTION:\n\n&nbsp\;\n\n\n\nToegang gratis\n\n\n\n\n\nMuziek\n\n\n\n\n\n
 \n\nAmateurensembles zetten hun beste beentje voor.\nWilt u ook komen spel
 en? Neem contact op via&nbsp\;info@jisperkerk.nl\n\n\n\n&nbsp\;\nReservere
 n\n
CATEGORIES:Muziek
LOCATION:De Jisper Kerk\, Dorpsstraat 46\, Jisp\, 1546 LK\, Nederland
X-APPLE-STRUCTURED-LOCATION;VALUE=URI;X-ADDRESS=Dorpsstraat 46\, Jisp\, 154
 6 LK\, Nederland;X-APPLE-RADIUS=100;X-TITLE=De Jisper Kerk:geo:0,0
END:VEVENT
BEGIN:VTIMEZONE
TZID:Europe/Amsterdam
X-LIC-LOCATION:Europe/Amsterdam
BEGIN:DAYLIGHT
DTSTART:20250330T030000
TZOFFSETFROM:+0100
TZOFFSETTO:+0200
TZNAME:CEST
END:DAYLIGHT
END:VTIMEZONE
END:VCALENDAR