BEGIN:VCALENDAR
VERSION:2.0
PRODID:-//wp-events-plugin.com//7.2.3.1//EN
TZID:Europe/Amsterdam
X-WR-TIMEZONE:Europe/Amsterdam
BEGIN:VEVENT
UID:36250@agenda-zaanstreek.nl
DTSTART;TZID=Europe/Amsterdam:20241212T193000
DTEND;TZID=Europe/Amsterdam:20241212T204500
DTSTAMP:20241209T201838Z
URL:https://agenda-zaanstreek.nl/events/elemental-kakaw-ceremonies-vuur/
SUMMARY:Elemental Kakaw Ceremonies VUUR
DESCRIPTION:\n\n&nbsp\;\nDeze tijd vraagt ons meer en meer om terug te kere
 n naar onszelf....de Natuur. Want wij zijn de natuur.\n\n\nWe mogen weer h
 er-inneren en ons (her)verbinden met deze OER krachten.\n\n\nDe Elemental 
 Kakaw Ceremonies nemen je mee op reis\, elke keer met een ander element ce
 ntraal. Deze Ceremonies worden meerdere keer per jaar gegeven en bewegen m
 ee met de seizoenen.\n\n\nWat je kunt verwachten\n Je leert werken met de 
 elementen\n Je ontdekt hoe het element werkt voor jou\n Je ontvangt ontspa
 nning en gronding\n Je krijgt inzichten in patronen\n Je gaat ontspannen e
 n opgeladen naar huis\n\n\n12/12 ELEMENTAL CEREMONIE VUUR\nDe eerste Cerem
 onie vindt plaats op donderdag 12 december van 19.30 - 20.45.\nDeze keer s
 taat het Element VUUR centraal.\n\n\nWe gaan ontdekken\;\nWaar meer vuur m
 ag branden in je leven (passie\, hartstocht\, creativiteit).\nHoe jouw vuu
 renergie werkt..\nWelke vorm\, welke uiting\nHoe hou jij jouw vlam branden
 d\nWat mag worden gereinigd en losgelaten in het vuur\n\n\nStefanie weet m
 et haar ervaring\, kennis en helderheid precies de juiste sfeer te creëer
 en waarin jij kunt zakken\, ontvangen en openen. Via meditatie\, oefeninge
 n en klank. De ceremonie wordt daarbij liefdevol ondersteund met de cacaop
 oeder van KAKAWSpirit.\n\n\nCacao heeft een geneeskrachtige werking en hel
 pt jouw hart verder openen. Kakawspirit heeft een unieke blend gecreëerd 
 voor elk element! Tijdens deze 1ste Ceremonie zal de FIRE BLEND ons onders
 teunen.\n\n\nKosten\n€25\n\n\nDuur\n1 uur en 15 min\n\n\nLocatie RAWW\nA
 ugustusbloemweg 4 - Unit 42\nhttps://www.rawwholistics.nl/\n\n\nAanmelden 
 via dm of mail info@stefanieruns.nl\nTickets: https://hipsy.nl/shop/87285-
 raww-elemental-kakaw-ceremonie\n
CATEGORIES:Spiritueel
LOCATION:Locatie RAWW\, Augustusbloemweg 4 - Unit 42\, Zaandam\, Nederland
X-APPLE-STRUCTURED-LOCATION;VALUE=URI;X-ADDRESS=Augustusbloemweg 4 - Unit 4
 2\, Zaandam\, Nederland;X-APPLE-RADIUS=100;X-TITLE=Locatie RAWW:geo:0,0
END:VEVENT
BEGIN:VTIMEZONE
TZID:Europe/Amsterdam
X-LIC-LOCATION:Europe/Amsterdam
BEGIN:STANDARD
DTSTART:20241027T020000
TZOFFSETFROM:+0200
TZOFFSETTO:+0100
TZNAME:CET
END:STANDARD
END:VTIMEZONE
END:VCALENDAR