BEGIN:VCALENDAR
VERSION:2.0
PRODID:-//wp-events-plugin.com//7.2.3.1//EN
TZID:Europe/Amsterdam
X-WR-TIMEZONE:Europe/Amsterdam
BEGIN:VEVENT
UID:36747@agenda-zaanstreek.nl
DTSTART;TZID=Europe/Amsterdam:20250208T200000
DTEND;TZID=Europe/Amsterdam:20250208T200000
DTSTAMP:20250130T112635Z
URL:https://agenda-zaanstreek.nl/events/ekaterina-zhemaitis-terug-in-muzie
 khaven-met-topcellist-matthias-balzat/
SUMMARY:Ekaterina Zhemaitis terug in MuziekHaven met topcellist Matthias Ba
 lzat
DESCRIPTION:\n\nPianiste Ekaterina Zhemaitis maakte diepe indruk tijdens ha
 ar concert in september. Deze keer keert zij terug met Matthias Balzat\, e
 en veelbelovende Nieuw-Zeelandse cellist\, leerling van de beroemde Pieter
  Wispelwey en winnaar van diverse internationale prijzen. Samen brengen zi
 j een fascinerend programma genaamd&nbsp\;“In Search of Lost Time”\, m
 et de melancholische cellosonate van Rachmaninov\, expressieve werken van 
 Prokofiev en de minder bekende maar intrigerende muziek van Shchedrin.\n\n
 Dit concert belooft een unieke combinatie van technische virtuositeit en d
 iepgaande muzikaliteit.\n️&nbsp\;Kaarten&nbsp\;bestellen
CATEGORIES:Klassiek,Muziek
LOCATION:MuziekHaven\, Papenpad 13\, Zaandam\, 1506 GR\, Nederland
X-APPLE-STRUCTURED-LOCATION;VALUE=URI;X-ADDRESS=Papenpad 13\, Zaandam\, 150
 6 GR\, Nederland;X-APPLE-RADIUS=100;X-TITLE=MuziekHaven:geo:0,0
END:VEVENT
BEGIN:VTIMEZONE
TZID:Europe/Amsterdam
X-LIC-LOCATION:Europe/Amsterdam
BEGIN:STANDARD
DTSTART:20241027T020000
TZOFFSETFROM:+0200
TZOFFSETTO:+0100
TZNAME:CET
END:STANDARD
END:VTIMEZONE
END:VCALENDAR