BEGIN:VCALENDAR
VERSION:2.0
PRODID:-//wp-events-plugin.com//7.2.3.1//EN
TZID:Europe/Amsterdam
X-WR-TIMEZONE:Europe/Amsterdam
BEGIN:VEVENT
UID:40758@agenda-zaanstreek.nl
DTSTART;TZID=Europe/Amsterdam:20251129T170000
DTEND;TZID=Europe/Amsterdam:20251129T220000
DTSTAMP:20251127T104141Z
URL:https://agenda-zaanstreek.nl/events/eindfeest-impuls-jongerencultuur/
SUMMARY:Eindfeest Impuls Jongerencultuur
DESCRIPTION:\n\n 	zaterdag 29 november 2025\n 	17:00&nbsp\;&nbsp\;22:00\n\n
 \n 	Zaans Cultuurhuis2 Cornelis van UitgeeststraatZaandam\, NH\, 1508 EHNe
 therlands&nbsp\;\n\n\n\n\n\n\n\n\n\nDe jongerenimpuls sluit een periode af
  van inspireren en stimuleren en verbeteren van cultuurplekken en beleid v
 oor jongeren met eten\, optredens en workshops.\n\n\n\n\n\n\n\n
LOCATION:Zaans Cultuurhuis\, Cornelis van Uitgeeststraat 2\, Zaandam\, 1508
  EH\, Nederland
X-APPLE-STRUCTURED-LOCATION;VALUE=URI;X-ADDRESS=Cornelis van Uitgeeststraat
  2\, Zaandam\, 1508 EH\, Nederland;X-APPLE-RADIUS=100;X-TITLE=Zaans Cultuu
 rhuis:geo:0,0
END:VEVENT
BEGIN:VTIMEZONE
TZID:Europe/Amsterdam
X-LIC-LOCATION:Europe/Amsterdam
BEGIN:STANDARD
DTSTART:20251026T020000
TZOFFSETFROM:+0200
TZOFFSETTO:+0100
TZNAME:CET
END:STANDARD
END:VTIMEZONE
END:VCALENDAR