BEGIN:VCALENDAR
VERSION:2.0
PRODID:-//wp-events-plugin.com//7.2.3.1//EN
TZID:Europe/Amsterdam
X-WR-TIMEZONE:Europe/Amsterdam
BEGIN:VEVENT
UID:37471@agenda-zaanstreek.nl
DTSTART;TZID=Europe/Amsterdam:20250319T193000
DTEND;TZID=Europe/Amsterdam:20250319T213000
DTSTAMP:20250226T132207Z
URL:https://agenda-zaanstreek.nl/events/eindeloos-textiel-maakplek-5-2/
SUMMARY:Eindeloos Textiel (maakplek)
DESCRIPTION:Ontdek wat er zoal mogelijk is met textiel en laat je inspirere
 n in de maak- en experimenteerplaats Eindeloos Textiel onder leiding van S
 abin Kech en Nathalie Prins-van Duin. In deze makerspace komen textiel-gep
 assioneerden samen die willen experimenteren\, door ontwikkelen\, materiaa
 l onderzoeken en -vormgeven. Oude ambachten in een nieuw jasje en nieuwe\,
  moderne technieken komen voorbij. We delen kennis\, leren anders kijken e
 n proberen nieuwe technieken om jouw talent te ontwikkelen. Het thema voor
  deze periode is ‘Ontdek Flower Power’&nbsp\;Van het verven met\, tot 
 het maken van bloemen in verschillende technieken.\n\nLocatie:&nbsp\;FluXu
 s Verkadefabriek\, Westzijde 168\, Zaandam\n\nDatum:&nbsp\;5 &amp\; 19 maa
 rt\n\nTijd:&nbsp\;van 19.30 uur tot 21.30 uur\n\nToegang:&nbsp\;losse les 
 €20\,00\, gebruik van strippenkaart mogelijk (5 lessen voor € 75\,-)\n
 \nAanmelden:&nbsp\;stuur een mail naar&nbsp\;info@tanade.nl\n\nhttps://www
 .fluxus.nl/agenda/eindeloos-textiel/
CATEGORIES:Cursus Workshop
LOCATION:Fluxus\, centrum voor de kunsten - locatie Verkade\, Westzijde 168
 \, Zaandam\, 1506 EK\, Nederland
X-APPLE-STRUCTURED-LOCATION;VALUE=URI;X-ADDRESS=Westzijde 168\, Zaandam\, 1
 506 EK\, Nederland;X-APPLE-RADIUS=100;X-TITLE=Fluxus\, centrum voor de kun
 sten - locatie Verkade:geo:0,0
END:VEVENT
BEGIN:VTIMEZONE
TZID:Europe/Amsterdam
X-LIC-LOCATION:Europe/Amsterdam
BEGIN:STANDARD
DTSTART:20241027T020000
TZOFFSETFROM:+0200
TZOFFSETTO:+0100
TZNAME:CET
END:STANDARD
END:VTIMEZONE
END:VCALENDAR