BEGIN:VCALENDAR
VERSION:2.0
PRODID:-//wp-events-plugin.com//7.2.3.1//EN
TZID:Europe/Amsterdam
X-WR-TIMEZONE:Europe/Amsterdam
BEGIN:VEVENT
UID:37370@agenda-zaanstreek.nl
DTSTART;TZID=Europe/Amsterdam:20250227T000000
DTEND;TZID=Europe/Amsterdam:20250227T000000
DTSTAMP:20250220T102939Z
URL:https://agenda-zaanstreek.nl/events/eetcafe-de-vuister/
SUMMARY:Eetcafé De Vuister
DESCRIPTION:Volgende week donderdag (27&nbsp\;februari) staan onze koks kla
 ar met een heerlijk diner: een pasteitje&nbsp\;vooraf\, kapucijner-ovensch
 otel als hoofdgerecht en roomswirl&nbsp\;als toetje. Wil je mee-eten?&nbsp
 \;Graag even aanmelden!\n\nGenieten van een heerlijk driegangendiner\, ber
 eid door ons team van enthousiaste vrijwilligers dat ook het steeds wissel
 ende menu samenstelt. Ook familieleden en vrienden zijn van harte welkom.\
 n\nWel graag vooraf aanmelden zodat onze koks weten voor hoeveel mensen ze
  lekker eten maken!\n\n\n\nDag/Tijd\n18.00-20.00 uur\nIedere tweede &amp\;
  vierde donderdag van de maand\n\n\nLocatie\nOntmoetingsruimte\n\n\nEerste
  keer\ndonderdag 10 oktober 2024 gaan we weer van start\n\n\nLaatste keer\
 ndonderdag 10 juli 2025 (met chinees buffet)\n\n\nKosten\n€ 8\,50 per ke
 er per persoon\n€ 10 per persoon voor kerstdiner en laatste Eetcafé\n\n
 \nContact\nAda Wechgelaar via 06-28233933 of&nbsp\;awechgelaar@gmail.com\n
 \n\nInschrijven\nvia telefoon of e-mailadres hierboven\n\n\n
CATEGORIES:Sociaal
LOCATION:Buurthuis De Vuister\, Molenwerf 158\, Koog aan de Zaan\, 1541 WR\
 , Nederland
X-APPLE-STRUCTURED-LOCATION;VALUE=URI;X-ADDRESS=Molenwerf 158\, Koog aan de
  Zaan\, 1541 WR\, Nederland;X-APPLE-RADIUS=100;X-TITLE=Buurthuis De Vuiste
 r:geo:0,0
END:VEVENT
BEGIN:VTIMEZONE
TZID:Europe/Amsterdam
X-LIC-LOCATION:Europe/Amsterdam
BEGIN:STANDARD
DTSTART:20241027T020000
TZOFFSETFROM:+0200
TZOFFSETTO:+0100
TZNAME:CET
END:STANDARD
END:VTIMEZONE
END:VCALENDAR