BEGIN:VCALENDAR
VERSION:2.0
PRODID:-//wp-events-plugin.com//7.2.3.1//EN
TZID:Europe/Amsterdam
X-WR-TIMEZONE:Europe/Amsterdam
BEGIN:VEVENT
UID:40846@agenda-zaanstreek.nl
DTSTART;TZID=Europe/Amsterdam:20251217T190000
DTEND;TZID=Europe/Amsterdam:20251217T190000
DTSTAMP:20251207T110409Z
URL:https://agenda-zaanstreek.nl/events/eerste-kerstconcert-stichting-muzi
 ekschool-zaanstad/
SUMMARY:Eerste kerstconcert Stichting Muziekschool Zaanstad!
DESCRIPTION:Op 17 december a.s. organiseert bovengenoemde Stichting haar ee
 rste kerstconcert.\nJarenlang gebeurde dat onder de vlag van Fluxus\, maar
  vanaf dit jaar onder regie van de\nStichting Muziekschool Zaanstad. De lo
 catie van dit concert is de sfeervol versierde\n“Doofpot”\, Oostzijde 
 82 te Zaandam\, aanvang 19.00. Voor u treden o.a. op de Stringkids\no.l.v.
  Ruth Cobelens met medewerking en pianobegeleiding van Joke van der Bunt\,
 \npianoleerlingen van Harry Koopman\, Maite Tife en Joke van der Bunt\, Vo
 caal Ensemble\nLigature o.l.v. Maite Tife\, viool leerlingen van Joep van 
 Beijnum\, cello leerlingen van\nMariëtte Gort\, fagot leerlingen van Dymp
 hna van Dooremaal\, gitaarleerlingen van Bart\nvan Uden en Jeugdensemble S
 infoniëtta o.l.v. Julia Barnes.\nDe toegang is gratis\, een vrijwillige b
 ijdrage na afloop wordt zeer gewaardeerd. Na afloop\nstaat er een glaasje 
 Glühwein of frisdrankje voor de bezoekers klaar.
CATEGORIES:Muziek
LOCATION:Apostolisch Genootschap\, Oostzijde 82\, Zaandam\, 1502 BJ\, Neder
 land
X-APPLE-STRUCTURED-LOCATION;VALUE=URI;X-ADDRESS=Oostzijde 82\, Zaandam\, 15
 02 BJ\, Nederland;X-APPLE-RADIUS=100;X-TITLE=Apostolisch Genootschap:geo:0
 ,0
END:VEVENT
BEGIN:VTIMEZONE
TZID:Europe/Amsterdam
X-LIC-LOCATION:Europe/Amsterdam
BEGIN:STANDARD
DTSTART:20251026T020000
TZOFFSETFROM:+0200
TZOFFSETTO:+0100
TZNAME:CET
END:STANDARD
END:VTIMEZONE
END:VCALENDAR