BEGIN:VCALENDAR
VERSION:2.0
PRODID:-//wp-events-plugin.com//7.2.3.1//EN
TZID:Europe/Amsterdam
X-WR-TIMEZONE:Europe/Amsterdam
BEGIN:VEVENT
UID:38565@agenda-zaanstreek.nl
DTSTART;TZID=Europe/Amsterdam:20250518T150000
DTEND;TZID=Europe/Amsterdam:20250518T150000
DTSTAMP:20250506T094133Z
URL:https://agenda-zaanstreek.nl/events/een-trio-in-melodieuze-verbondenhe
 id/
SUMMARY:Een trio in melodieuze verbondenheid!
DESCRIPTION:\n\n\nPowered by WeTicket\n\n\n\n\n\n\nDetails\nzondag 18 mei 2
 025\, 15:00 - zondag 18 mei 2025\, 16:30\n\n\nKlassiek in de Wormerveerse 
 Vermaning\, Zaanweg 57\, Wormerveer\n\n\n\n\n\nDe Zaanse musici Ruud Lutti
 khuizen (piano)\, Mariëtte Gort (cello) en Damiano Rizzato (dwarsfluit) v
 erzorgen een prachtig concert in de Wormerveerse Vermaning.\nZe spelen stu
 kken van onder meer de componisten Carl Maria von Weber\, Jeanne-Louise Fa
 renc\, Charles Lefèbvre\, Laura Netzel en anderen.\nHet samenspel van de 
 drie musici\, die hun sporen op muzikaal gebied ruimschoots verdiend hebbe
 n\, staat garant voor een klankreis door de tijd. Het belooft werkelijk ee
 n zeer toegankelijk concert te worden dat gezien kan worden als een harmon
 ieuze ontdekking.\n\nZaal open: 14.30 uur\n\nVoor routebeschrijving: zie&n
 bsp\;Contact-pagina\n\n\n\n\n\n
CATEGORIES:Klassiek,Muziek
LOCATION:Wormerveerse Vermaning\, Zaanweg 57\, Wormerveer\, 1521 DM\, Neder
 land
X-APPLE-STRUCTURED-LOCATION;VALUE=URI;X-ADDRESS=Zaanweg 57\, Wormerveer\, 1
 521 DM\, Nederland;X-APPLE-RADIUS=100;X-TITLE=Wormerveerse Vermaning:geo:0
 ,0
END:VEVENT
BEGIN:VTIMEZONE
TZID:Europe/Amsterdam
X-LIC-LOCATION:Europe/Amsterdam
BEGIN:DAYLIGHT
DTSTART:20250330T030000
TZOFFSETFROM:+0100
TZOFFSETTO:+0200
TZNAME:CEST
END:DAYLIGHT
END:VTIMEZONE
END:VCALENDAR