BEGIN:VCALENDAR
VERSION:2.0
PRODID:-//wp-events-plugin.com//7.2.3.1//EN
TZID:Europe/Amsterdam
X-WR-TIMEZONE:Europe/Amsterdam
BEGIN:VEVENT
UID:36091@agenda-zaanstreek.nl
DTSTART;TZID=Europe/Amsterdam:20250119T150000
DTEND;TZID=Europe/Amsterdam:20250119T150000
DTSTAMP:20241128T133417Z
URL:https://agenda-zaanstreek.nl/events/een-rits-te-ver-2-0-pretpakhuis-jo
 n-van-eerd/
SUMMARY:Een rits te ver 2.0 - Pretpakhuis & Jon van Eerd
DESCRIPTION:Harrie is terug. En hoe! Deze topkomedie van Jon van Eerd is ei
 ndelijk weer te zien in uw theater. Deze hilarische voorstelling die zich 
 rond een dolkomisch verhaal op camping de Wielewaal afspeelt\, is volledig
  in een nieuw jasje gestoken. Hij is nóg sneller\, nóg grappiger\, nóg 
 hysterischer en helemaal van deze tijd! Jon van Eerd laat zich als tekstsc
 hrijver én als regisseur weer van zijn beste en vooral vertrouwde kant zi
 en. En zoals je weet\; als er iemand de koning van de komedie is dan is hi
 j het wel. Op alle fronten!\n\n\n\n\nDe voorstelling staat garant voor een
  kolderieke avond waarvan u nog dagenlang\, blauw van het lachen\, plezier
  zult hebben. Met een fantastische cast die meester is in het genre. Met o
 nder anderen Marjolijn Touw\, Mar-go Dames\, Arie Cupé\, Dick Cohen en Jo
 ey Schalker in de rol van Harrie Vermeulen.\n\nOver de voorstelling\nIeman
 d is met een duivels plan bezig de camping van Harrie Vermeulen zwart te m
 aken\, en daarom komt de inspectie van de gemeente de stand van zaken opne
 men. Harrie en zijn dochter vrezen het ergste en zullen alles doen om de s
 trenge inspecteur in de watten te leggen. Maar wie is nou eigenlijk die in
 specteur? Is het de ordinaire schreeuwlelijk die vanuit haar tent de boel 
 op stelten zet? Is het de man die zich voordoet als iemand die vogels best
 udeert? Of is het toch de chagrijnige vrouw met haar clipbord. Wie het in 
 ieder geval niet is\, is de Russische domkop Igor. Hij is vooral verantwoo
 rdelijk voor het mislukken van alle plannen van Harrie. Als de inspectrice
  door toedoen van Harrie haar geheugen verliest en Harrie doet alsof zij z
 ijn vrouw is\, zijn de rapen pas echt gaar.\n\n\nLees meer\n
CATEGORIES:Theater,Toneel
LOCATION:Zaantheater\, Nicolaasstraat 3\, Zaandam\, 1506 BB\, Nederland
X-APPLE-STRUCTURED-LOCATION;VALUE=URI;X-ADDRESS=Nicolaasstraat 3\, Zaandam\
 , 1506 BB\, Nederland;X-APPLE-RADIUS=100;X-TITLE=Zaantheater:geo:0,0
END:VEVENT
BEGIN:VTIMEZONE
TZID:Europe/Amsterdam
X-LIC-LOCATION:Europe/Amsterdam
BEGIN:STANDARD
DTSTART:20241027T020000
TZOFFSETFROM:+0200
TZOFFSETTO:+0100
TZNAME:CET
END:STANDARD
END:VTIMEZONE
END:VCALENDAR