BEGIN:VCALENDAR
VERSION:2.0
PRODID:-//wp-events-plugin.com//7.2.3.1//EN
TZID:Europe/Amsterdam
X-WR-TIMEZONE:Europe/Amsterdam
BEGIN:VEVENT
UID:38975@agenda-zaanstreek.nl
DTSTART;TZID=Europe/Amsterdam:20250615T140000
DTEND;TZID=Europe/Amsterdam:20250615T140000
DTSTAMP:20250529T101125Z
URL:https://agenda-zaanstreek.nl/events/een-paard-spiegelt-pocahontas-2/
SUMMARY:Een paard spiegelt Pocahontas
DESCRIPTION:\n\nHet seizoen 2024-2025 schiet al weer aardig op.\n\nNa een p
 aar fantastische kerstconcerten\, heeft de jeugd zich vanaf januari weer g
 estort op de musical.\n\nOp zaterdagavond 14 juni om 19.30 uur vindt de pr
 emière plaats en op zondagmiddag 15 juni om 14.00 uur de matineevoorstell
 ing.&nbsp\;\n\nEen paard spiegelt Pocahontas\n\nPocahontas is een indianen
 meisje\, dochter van opperhoofd Powhatan. Wanneer er een schip met goudzoe
 kers afmeert om te onderzoeken of er goud is op het stuk land van de india
 nen\, dan loopt de spanning al gauw op. Wanneer Pocahontas dan ook nog ver
 liefd wordt op de zoon van de kapitein van het schip\, dan wordt het allee
 n nog maar ingewikkelder. Maar een droom van Pocahontas\, waarin een paard
  haar spiegelt\, zorgt voor een ommekeer. Uiteindelijk loopt alles weer an
 ders dan je verwacht.\n\nDe scenes in het stuk worden afgewisseld met zang
  en dans.\n\nBron: Seizoen 2024-2025 - Bel Canto Oostzaan\n\n&nbsp\;
CATEGORIES:Musical
LOCATION:De KunstGreep\, Kerkbuurt 4\, Oostzaan\, 1511 BD\, Nederland
X-APPLE-STRUCTURED-LOCATION;VALUE=URI;X-ADDRESS=Kerkbuurt 4\, Oostzaan\, 15
 11 BD\, Nederland;X-APPLE-RADIUS=100;X-TITLE=De KunstGreep:geo:0,0
END:VEVENT
BEGIN:VTIMEZONE
TZID:Europe/Amsterdam
X-LIC-LOCATION:Europe/Amsterdam
BEGIN:DAYLIGHT
DTSTART:20250330T030000
TZOFFSETFROM:+0100
TZOFFSETTO:+0200
TZNAME:CEST
END:DAYLIGHT
END:VTIMEZONE
END:VCALENDAR