BEGIN:VCALENDAR
VERSION:2.0
PRODID:-//wp-events-plugin.com//7.2.3.1//EN
TZID:Europe/Amsterdam
X-WR-TIMEZONE:Europe/Amsterdam
BEGIN:VEVENT
UID:39795@agenda-zaanstreek.nl
DTSTART;TZID=Europe/Amsterdam:20250816T120000
DTEND;TZID=Europe/Amsterdam:20250816T160000
DTSTAMP:20250731T074250Z
URL:https://agenda-zaanstreek.nl/events/dutch-west-chapter-b-a-c-a-houdt-b
 uiten-speeldag-op-marktplein-wormerveer/
SUMMARY:Dutch West Chapter B.A.C.A. houdt Buiten Speeldag op Marktplein Wor
 merveer
DESCRIPTION:“We weten dat we als motorrijders imponerend over kunnen kome
 n. Maar de kinderen zijn nooit bang voor ons. Ja\, ouders soms wel”\, ze
 gt ‘Dog’ glimlachend. Hij is bestuurslid van de Dutch West Chapter van
  B.A.C.A. De afkorting voor Bikers Against Child Abuse. De stoere bikers s
 teunen misbruikte en mishandelde kinderen die bang zijn in de wereld waari
 n ze leven. Hoe ze dat doen kun je op zaterdag 16 augustus zelf ervaren ti
 jdens de Buiten Speeldag op het Marktplein. Kinderen kunnen zich onder mee
 r (gratis) vermaken op het springkussen\, meedoen met spelletjes\, een fri
 etje eten en…. mogen op de motoren zitten.\n\n\nIn 2022 hield de B.A.C.A
  ook op het Marktplein voor buurthuis De Lorzie een Buiten Speeldag. Het w
 erd een zeer geslaagde middag waarin de missie van de groep stoere bikers 
 op vriendelijke wijze werd uitgedragen.&nbsp\;(Foto: Dirk Karten)\nMeer in
 fo Dutch West Chapter B.A.C.A. houdt Buiten Speeldag op Marktplein Wormerv
 eer | Al het nieuws uit Zaanstad
CATEGORIES:Evenement
LOCATION:Marktplein\, Marktplein\, Wormerveer\, 1521 HS\, Nederland
X-APPLE-STRUCTURED-LOCATION;VALUE=URI;X-ADDRESS=Marktplein\, Wormerveer\, 1
 521 HS\, Nederland;X-APPLE-RADIUS=100;X-TITLE=Marktplein:geo:0,0
END:VEVENT
BEGIN:VTIMEZONE
TZID:Europe/Amsterdam
X-LIC-LOCATION:Europe/Amsterdam
BEGIN:DAYLIGHT
DTSTART:20250330T030000
TZOFFSETFROM:+0100
TZOFFSETTO:+0200
TZNAME:CEST
END:DAYLIGHT
END:VTIMEZONE
END:VCALENDAR