BEGIN:VCALENDAR
VERSION:2.0
PRODID:-//wp-events-plugin.com//7.2.3.1//EN
TZID:Europe/Amsterdam
X-WR-TIMEZONE:Europe/Amsterdam
BEGIN:VEVENT
UID:37624@agenda-zaanstreek.nl
DTSTART;TZID=Europe/Amsterdam:20250329T090000
DTEND;TZID=Europe/Amsterdam:20250524T170000
DTSTAMP:20250306T090103Z
URL:https://agenda-zaanstreek.nl/events/duo-expositie-bij-galerie-staphors
 ius-met-de-zaanse-kunstsalon-en-de-expositie-broodnodige-kunst/
SUMMARY:Duo-expositie bij Galerie Staphorsius met de Zaanse KunstSalon en d
 e expositie Broodnodige kunst
DESCRIPTION:\n\nBij Galerie Staphorsius kan vanaf 29 maart de Zaanse KunstS
 alon worden bezocht\, een gevarieerde verkoopexpositie van schilderijen\, 
 aquarellen\, tekeningen en etsen geheel samengesteld uit ingebrachte werke
 n van Zaanse kunstenaars zoals Willem en Chris Jansen\, Freek Engel\, Gerr
 it de Jong\, Adriaan Timmers\, Jan de Boer\, Jan Groenhart\, Co Assema\, F
 rans Mars\, Gerrit de Jong\, Felicien Bobeldijk\, Jaap Kaal\, Jan Kruijver
 \, Frans Room\, Leo Poelmeijer\, Klaas Bood en anderen.\n\nGelijktijdig ku
 nt u bij de galerie de boeiende expositie Broodnodige kunst bezoeken\, waa
 rin wordt ingegaan op de artistieke keuzes die Willem Jansen (1892 – 196
 9)\, werkend als kunstschilder\, heeft moeten maken om met zijn werk het g
 ezin te kunnen onderhouden. Wonend en werkend in de Zaanse industriestreek
 \, met zeker in zijn tijd\, een guur en kil kunstklimaat was dat soms een 
 moeizaam bestaan. Jansen werkte regelmatig in opdracht voor Zaanse bedrijv
 en en particulieren. Ook als graficus was hij actief en bracht hij zijn et
 sen die door hem in series werden afgedrukt gunstig geprijsd zelf aan de m
 an. In een speciaal bulletin van de stichting wat de expositie begeleidt k
 unt u hier meer over lezen.\n\nBeide exposities worden georganiseerd door 
 de Willem Jansen Stichting\, die zich al meer dan vijftig jaar inzet om he
 t leven en werk van Willem en zoon Chris Jansen en dat van hun tijd/streek
 genoten onder de aandacht te brengen.\n\nZaanse KunstSalon en Broodnodige 
 kunst\n29 maart tm 24 mei\nGeopend dinsdag tm zaterdag 09 – 17 uur\nRuim
 e parkeergelegenheid
CATEGORIES:Expositie
LOCATION:Galerie Staphorsius\, J.J. Allanstraat 287-B\, Westzaan\, 1551 RG\
 , Nederland
X-APPLE-STRUCTURED-LOCATION;VALUE=URI;X-ADDRESS=J.J. Allanstraat 287-B\, We
 stzaan\, 1551 RG\, Nederland;X-APPLE-RADIUS=100;X-TITLE=Galerie Staphorsiu
 s:geo:0,0
END:VEVENT
BEGIN:VTIMEZONE
TZID:Europe/Amsterdam
X-LIC-LOCATION:Europe/Amsterdam
BEGIN:STANDARD
DTSTART:20241027T020000
TZOFFSETFROM:+0200
TZOFFSETTO:+0100
TZNAME:CET
END:STANDARD
BEGIN:DAYLIGHT
DTSTART:20250330T030000
TZOFFSETFROM:+0100
TZOFFSETTO:+0200
TZNAME:CEST
END:DAYLIGHT
END:VTIMEZONE
END:VCALENDAR