BEGIN:VCALENDAR
VERSION:2.0
PRODID:-//wp-events-plugin.com//7.2.3.1//EN
TZID:Europe/Amsterdam
X-WR-TIMEZONE:Europe/Amsterdam
BEGIN:VEVENT
UID:39046@agenda-zaanstreek.nl
DTSTART;TZID=Europe/Amsterdam:20250622T100000
DTEND;TZID=Europe/Amsterdam:20250622T170000
DTSTAMP:20250604T193143Z
URL:https://agenda-zaanstreek.nl/events/duik-clinic-bij-duikvereniging-mur
 ene/
SUMMARY:Duik clinic bij Duikvereniging Murene
DESCRIPTION:\n\nAltijd al eens willen duiken\, maar er nog nooit aan toegek
 omen?Kom zondag 22 juni naar de duik clinic in het zwembad o.l.v. Duikvere
 niging Murene.Kijk op onze website&nbsp\;www.zwembadhetzwet.nl&nbsp\;voor 
 alle informatie en het inschrijfformulier.
CATEGORIES:Cursus Workshop,Recreatiesport
LOCATION:Zwembad Het Zwet\, Sternstraat 2\, Wormer\, 1531 VN\, Nederland
X-APPLE-STRUCTURED-LOCATION;VALUE=URI;X-ADDRESS=Sternstraat 2\, Wormer\, 15
 31 VN\, Nederland;X-APPLE-RADIUS=100;X-TITLE=Zwembad Het Zwet:geo:0,0
END:VEVENT
BEGIN:VTIMEZONE
TZID:Europe/Amsterdam
X-LIC-LOCATION:Europe/Amsterdam
BEGIN:DAYLIGHT
DTSTART:20250330T030000
TZOFFSETFROM:+0100
TZOFFSETTO:+0200
TZNAME:CEST
END:DAYLIGHT
END:VTIMEZONE
END:VCALENDAR