BEGIN:VCALENDAR
VERSION:2.0
PRODID:-//wp-events-plugin.com//7.2.3.1//EN
TZID:Europe/Amsterdam
X-WR-TIMEZONE:Europe/Amsterdam
BEGIN:VEVENT
UID:37021@agenda-zaanstreek.nl
DTSTART;TZID=Europe/Amsterdam:20250107T103000
DTEND;TZID=Europe/Amsterdam:20250215T163000
DTSTAMP:20250128T200422Z
URL:https://agenda-zaanstreek.nl/events/dubbelexpositie-ria-hotting-en-jop
 ie-nijkamp/
SUMMARY:Dubbelexpositie Ria Hotting en Jopie Nijkamp
DESCRIPTION:Ria (geb. 1953 te Westzaan)\, woonde als kind op een boerderij 
 en de landelijke sfeer loopt als een rode draad door haar werk. Ria is na 
 een periode van ziek zijn weer terug. Zij heeft verschillende keren haar z
 icht verloren maar heeft dit voor een deel weer terug. Nu is ze gaan schil
 deren met paletmes. Het schilderen blijft kriebelen en haar werk is door g
 ebruik van het &nbsp\;paletmes&nbsp\; losser&nbsp\;geworden\, maar geeft n
 ieuwe inzichten en veel plezier. Ria is lid van de Zaanse kunstenaarsveren
 iging Tengel.&nbsp\;\n\nJopie Nijkamp is in het creëren van haar kunst vo
 ornamelijk een autodidact. Zij heeft altijd een voorliefde voor keramiek g
 ehad\, maar laat zich tegenwoordig ook prikkelen door andere materialen. Z
 oals drijfhout\, beslag van meubelen en oude industriële onderdelen. Haar
  inspiratie vertaalt zich altijd naar een uniek keramisch geglazuurd objec
 t. Mensen\, dieren\, groenten\, fruit\, tableaus\, bouwwerken en schalen. 
 Haar werk is vaak een balans tussen fantasie en realisme\, waarbij wordt g
 espeeld met vorm\, verhouding en kleur. En allemaal met een duidelijk eige
 n signatuur. Jopie is\, net als Ria lid van de Zaanse kunstenaarsverenigin
 g Tengel.&nbsp\;\n\nChocolaterie De Cacaoboom is gevestigd aan de Lagedijk
  142b te Zaandijk en is geopend op di. t/m za.. van 10.30 tot 16.30 uur. D
 e week van 19-01 t/m 24-01 is winkel wegens vakantie gesloten.\n\nZie voor
  meer informatie ook www.jopienijkamp.nl en www.riahotting.com
CATEGORIES:Expositie
LOCATION:voorheen Chocolaterie De Cacaoboom\, Lagedijk 142\, Zaandijk\, 154
 4 BL\, Nederland
X-APPLE-STRUCTURED-LOCATION;VALUE=URI;X-ADDRESS=Lagedijk 142\, Zaandijk\, 1
 544 BL\, Nederland;X-APPLE-RADIUS=100;X-TITLE=voorheen Chocolaterie De Cac
 aoboom:geo:0,0
END:VEVENT
BEGIN:VTIMEZONE
TZID:Europe/Amsterdam
X-LIC-LOCATION:Europe/Amsterdam
BEGIN:STANDARD
DTSTART:20241027T020000
TZOFFSETFROM:+0200
TZOFFSETTO:+0100
TZNAME:CET
END:STANDARD
END:VTIMEZONE
END:VCALENDAR