BEGIN:VCALENDAR
VERSION:2.0
PRODID:-//wp-events-plugin.com//7.2.3.1//EN
TZID:Europe/Amsterdam
X-WR-TIMEZONE:Europe/Amsterdam
BEGIN:VEVENT
UID:40902@agenda-zaanstreek.nl
DTSTART;TZID=Europe/Amsterdam:20251219T200000
DTEND;TZID=Europe/Amsterdam:20251219T200000
DTSTAMP:20251218T101803Z
URL:https://agenda-zaanstreek.nl/events/donkere-materie-en-het-kosmische-w
 eb/
SUMMARY:Donkere materie en het kosmische web
DESCRIPTION:\n\n 	Donkere materie en het kosmische web\n\n 	Vrijdag 19 dece
 mber 2025 om 20:00\nWelke krachten beïnvloeden de bewegingen van de sterr
 enstelsels en wat bepaalt de structuur van het heelal waarbinnen dat gebeu
 rt. De materie in het heelal die dusver met directe waarnemingen is gevond
 en\, blijft beperkt tot wat wij binnen het elektromagnetisch spectrum zich
 tbaar kunnen maken. Uitgaande van het standaard kosmologische model moet e
 r veel meer massa aanwezig zijn om de benodigde (zwaarte)krachten te kunne
 n verklaren. Bestaat er dan donkere materie en donkere energie die wij (no
 g) niet hebben kunnen waarnemen? Het sterrenstelsel "De Melkweg" - waar on
 s zonnestelsel zich in bevindt - is bijna net zo oud als het universum. Wa
 t hebben we geleerd door het onderzoek van onze Melkweg en wat kunnen we d
 aar voor alsnog uit afleiden over de structuur van het heelal?\n\n\n
CATEGORIES:Lezing
LOCATION:Vesta-Oostzaanse Sterrenwacht\, Zuideinde 197\, Oostzaan\, 1511 GD
 \, Nederland
X-APPLE-STRUCTURED-LOCATION;VALUE=URI;X-ADDRESS=Zuideinde 197\, Oostzaan\, 
 1511 GD\, Nederland;X-APPLE-RADIUS=100;X-TITLE=Vesta-Oostzaanse Sterrenwac
 ht:geo:0,0
END:VEVENT
BEGIN:VTIMEZONE
TZID:Europe/Amsterdam
X-LIC-LOCATION:Europe/Amsterdam
BEGIN:STANDARD
DTSTART:20251026T020000
TZOFFSETFROM:+0200
TZOFFSETTO:+0100
TZNAME:CET
END:STANDARD
END:VTIMEZONE
END:VCALENDAR