BEGIN:VCALENDAR
VERSION:2.0
PRODID:-//wp-events-plugin.com//7.2.3.1//EN
TZID:Europe/Amsterdam
X-WR-TIMEZONE:Europe/Amsterdam
BEGIN:VEVENT
UID:40907@agenda-zaanstreek.nl
DTSTART;TZID=Europe/Amsterdam:20251228T133000
DTEND;TZID=Europe/Amsterdam:20251228T160000
DTSTAMP:20251218T102533Z
URL:https://agenda-zaanstreek.nl/events/dolfje-weerwolfje-en-foeksia-de-mi
 niheks-5-2x/
SUMMARY:Dolfje Weerwolfje en Foeksia de Miniheks (5+) (2x)
DESCRIPTION:\n\n\n\n\n\nzo 28 dec 202513.30\nAlbert Heijnzaal\n€17\,95 - 
 €34\,85\nJeugd &amp\; Familie\n\n&nbsp\; &nbsp\;&nbsp\; &nbsp\;&nbsp\; &
 nbsp\;&nbsp\; &nbsp\;&nbsp\; &nbsp\;&nbsp\; &nbsp\;&nbsp\; &nbsp\;\nKies a
 nder moment&nbsp\;&nbsp\; &nbsp\;&nbsp\; &nbsp\;&nbsp\; &nbsp\;&nbsp\; &nb
 sp\;&nbsp\; &nbsp\;&nbsp\; &nbsp\;&nbsp\; &nbsp\;&nbsp\; &nbsp\;\nzo 28 de
 c 2025 16.00&nbsp\; &nbsp\; &nbsp\;&nbsp\; &nbsp\;&nbsp\; &nbsp\;&nbsp\; &
 nbsp\;&nbsp\; &nbsp\;\n\nFavoriet\nBestel\n\n\n\n\n\n&nbsp\;\n\n\n\n 	&nbs
 p\;\n 	Theater\n 	Agenda\n 	Seizoen 2025-2026\n 	Dolfje Weerwolfje en Foek
 sia de Miniheks (5+)&nbsp\;\n\n\n\n\n\n\n\n\n 	Jeugd &amp\; Familie\n\n\n\
 n\nWrow! Op een nacht rent Dolfje Weerwolfje per ongeluk het Weerwolvenbos
  uit\, het Heksenbos in. Van Opa Weerwolf mag hij absoluut niet in het Hek
 senbos komen\, want weerwolven en heksen gaan niet samen. Dan leert hij Fo
 eksia kennen\, een grappig en lief miniheksje\, dat bij haar vader Kwark d
 e Tovenaar woont. Ze worden vriendjes.\n\n\n\n\n
CATEGORIES:Jeugd,Jeugd en Familie
LOCATION:Zaantheater\, Nicolaasstraat 3\, Zaandam\, 1506 BB\, Nederland
X-APPLE-STRUCTURED-LOCATION;VALUE=URI;X-ADDRESS=Nicolaasstraat 3\, Zaandam\
 , 1506 BB\, Nederland;X-APPLE-RADIUS=100;X-TITLE=Zaantheater:geo:0,0
END:VEVENT
BEGIN:VTIMEZONE
TZID:Europe/Amsterdam
X-LIC-LOCATION:Europe/Amsterdam
BEGIN:STANDARD
DTSTART:20251026T020000
TZOFFSETFROM:+0200
TZOFFSETTO:+0100
TZNAME:CET
END:STANDARD
END:VTIMEZONE
END:VCALENDAR