BEGIN:VCALENDAR
VERSION:2.0
PRODID:-//wp-events-plugin.com//7.2.3.1//EN
TZID:Europe/Amsterdam
X-WR-TIMEZONE:Europe/Amsterdam
BEGIN:VEVENT
UID:36094@agenda-zaanstreek.nl
DTSTART;TZID=Europe/Amsterdam:20250125T200000
DTEND;TZID=Europe/Amsterdam:20250125T200000
DTSTAMP:20241128T133748Z
URL:https://agenda-zaanstreek.nl/events/doek-van-maria-goos-liz-snoijink-e
 n-porgy-franssen/
SUMMARY:DOEK! van Maria Goos Liz Snoijink en Porgy Franssen
DESCRIPTION:\n\nza25 jan 202520.00Albert HeijnzaalBestel\n\n\nMeer Info\n\n
 Met&nbsp\;DOEK!&nbsp\;won Maria Goos in 2011 de prestigieuze Toneel Publie
 ksprijs. Tijdens Het Nationaal Theaterweekend keert het&nbsp\; gelauwerde 
 stuk terug naar ons theater met topacteurs Liz Snoijink en Porgy Franssen 
 in de hoofdrollen. Zij spelen de acteurs Lies Oorthuizen en Richard Berkho
 ve. Op het toneel weten zij elkaar tot grote hoogte te stuwen\, maar buite
 n het podium staat een destructieve kant een grote liefde in de weg waardo
 or ze elkaar uit het oog verliezen.\nDOEK!&nbsp\;is een schurende komedie 
 over echt en onecht op het toneel\, in de kunst en in de liefde. Voor elke
  acteur een uitdaging om te spelen\n\n\n\n\n\n\nAls al diverse tegenspeels
 ters van Richard hun rol hebben teruggegeven in een gepland toneelstuk\, w
 ordt ten langen leste Lies ingevlogen om de voorstelling van een voortijdi
 ge dood te redden. De chemie tussen hen werkt nog steeds en niet alleen op
  het toneel.\n\n\nLees meer\n
CATEGORIES:Theater,Toneel
LOCATION:Zaantheater\, Nicolaasstraat 3\, Zaandam\, 1506 BB\, Nederland
X-APPLE-STRUCTURED-LOCATION;VALUE=URI;X-ADDRESS=Nicolaasstraat 3\, Zaandam\
 , 1506 BB\, Nederland;X-APPLE-RADIUS=100;X-TITLE=Zaantheater:geo:0,0
END:VEVENT
BEGIN:VTIMEZONE
TZID:Europe/Amsterdam
X-LIC-LOCATION:Europe/Amsterdam
BEGIN:STANDARD
DTSTART:20241027T020000
TZOFFSETFROM:+0200
TZOFFSETTO:+0100
TZNAME:CET
END:STANDARD
END:VTIMEZONE
END:VCALENDAR