BEGIN:VCALENDAR
VERSION:2.0
PRODID:-//wp-events-plugin.com//7.2.3.1//EN
TZID:Europe/Amsterdam
X-WR-TIMEZONE:Europe/Amsterdam
BEGIN:VEVENT
UID:37740@agenda-zaanstreek.nl
DTSTART;TZID=Europe/Amsterdam:20250406T143000
DTEND;TZID=Europe/Amsterdam:20250406T143000
DTSTAMP:20250313T084201Z
URL:https://agenda-zaanstreek.nl/events/dockside-the-dutch-with-the-irish-
 touch/
SUMMARY:Dockside - The Dutch with the Irish Touch
DESCRIPTION:\n\n&nbsp\;Dockside speelt muziek vol weemoed en verlangen\, pa
 ssie en levenslust.\n\nAan de basis hiervan ligt de Ierse muziek\, die bru
 ist als een goed glas Guinness.\n\nAl 30 jaar lang (dit jaar is hun jubile
 umjaar) weten Marc\, Marleen\, André en Jos het publiek met hun Iers geti
 nte muziek te raken en te vermaken.\n\nZij hebben een reputatie opgebouwd 
 in het vertolken van ontroerende ballades uit de rijke Ierse historie\, af
 gewisseld met drink-\, strijdliederen.\n\nOok de Ierse dansmuziek in de vo
 rm van hornpipes\, jigs en reels komt aan bod.\n\nTerugkerende thema’s z
 ijn de zee\, het vissersbestaan en heimwee naar Ierland.\n\nOf het nu gaat
  om Ierse\, Schotse\, Jiddische en Nederlandse traditionals of om recenter
 e songs- allemaal zijn ze door deze vier muzikanten op eigen Dockside-wijz
 e gearrangeerd.\n\nMet accordeon\, gitaren\, viool en contrabas en meerste
 mmige vocalen trekt Dockside al 30 jaar de aandacht in Nederland en ver da
 ar buiten.\n\nNu in Wormer op zondag 6 april\, Maria Magdalenakerk Dorpsst
 raat 351 Wormer aanvang 14.30 uur. &nbsp\;Kaarten 15\,00\n\nInfo en bestel
 len op www.concertenwormer.nl of tel 075-642 1282\n\n&nbsp\;\n\n&nbsp\;
CATEGORIES:Muziek
LOCATION:Maria Magdalena kerk Wormer\, Dorpsstraat 351\, Wormer\, 1531 HJ\,
  Nederland
X-APPLE-STRUCTURED-LOCATION;VALUE=URI;X-ADDRESS=Dorpsstraat 351\, Wormer\, 
 1531 HJ\, Nederland;X-APPLE-RADIUS=100;X-TITLE=Maria Magdalena kerk Wormer
 :geo:0,0
END:VEVENT
BEGIN:VTIMEZONE
TZID:Europe/Amsterdam
X-LIC-LOCATION:Europe/Amsterdam
BEGIN:DAYLIGHT
DTSTART:20250330T030000
TZOFFSETFROM:+0100
TZOFFSETTO:+0200
TZNAME:CEST
END:DAYLIGHT
END:VTIMEZONE
END:VCALENDAR