BEGIN:VCALENDAR
VERSION:2.0
PRODID:-//wp-events-plugin.com//7.2.3.1//EN
TZID:Europe/Amsterdam
X-WR-TIMEZONE:Europe/Amsterdam
BEGIN:VEVENT
UID:38972@agenda-zaanstreek.nl
DTSTART;TZID=Europe/Amsterdam:20250610T100000
DTEND;TZID=Europe/Amsterdam:20250610T100000
DTSTAMP:20250529T095627Z
URL:https://agenda-zaanstreek.nl/events/dll-viert-90-jarig-bestaan-pinkste
 r-3-tocht-zaandam-purmerend/
SUMMARY:DLL viert 90-jarig bestaan - Pinkster 3 Tocht Zaandam – Purmerend
DESCRIPTION:Dinsdag 10 Juni\nPinkster 3 Tocht Zaandam – Purmerend\nAfstan
 d : 16 Km\nDit is een Groepswandeling\nStarttijd : 10:00\nStart Locatie : 
 Voor gesloten Buurthuis Odd Fellows\nVeldbloemenweg 6C\, 1508 WV Zaandam\n
 Er zijn geen kosten aan deze wandering verbonden.\nAlle kosten onderweg zi
 jn voor eigen rekening\nVooraf aanmelden voor deze wandeling is verplicht\
 nBij een minimale deelname van 10 wandelaars gaat deze wandeling door\nAct
 uele aantal Deelnemers per 28-05-2025 :&nbsp\;9\nDefinitieve doorgang word
 t op zondagavond 8 Juni gemailed.\nBron: DLL viert 90-jarig bestaan
CATEGORIES:Recreatiesport
LOCATION:De Veldschuit | Odd Fellow huis Zaandam\, Veldbloemenweg 6 c\, Zaa
 ndam\, 1508 WV\, Nederland
X-APPLE-STRUCTURED-LOCATION;VALUE=URI;X-ADDRESS=Veldbloemenweg 6 c\, Zaanda
 m\, 1508 WV\, Nederland;X-APPLE-RADIUS=100;X-TITLE=De Veldschuit | Odd Fel
 low huis Zaandam:geo:0,0
END:VEVENT
BEGIN:VTIMEZONE
TZID:Europe/Amsterdam
X-LIC-LOCATION:Europe/Amsterdam
BEGIN:DAYLIGHT
DTSTART:20250330T030000
TZOFFSETFROM:+0100
TZOFFSETTO:+0200
TZNAME:CEST
END:DAYLIGHT
END:VTIMEZONE
END:VCALENDAR