BEGIN:VCALENDAR
VERSION:2.0
PRODID:-//wp-events-plugin.com//7.2.3.1//EN
TZID:Europe/Amsterdam
X-WR-TIMEZONE:Europe/Amsterdam
BEGIN:VEVENT
UID:39786@agenda-zaanstreek.nl
DTSTART;TZID=Europe/Amsterdam:20250919T200000
DTEND;TZID=Europe/Amsterdam:20250919T200000
DTSTAMP:20250729T093622Z
URL:https://agenda-zaanstreek.nl/events/district-12-create-studios/
SUMMARY:District 12 - Create Studios
DESCRIPTION:\n\n\n 	Theater &amp\; Toneel\n\n\n\n\nHet rustige stadje Unito
 wn is opgeschrikt door de gruwelijke moord op professor P. Versteden. De d
 etectives van District 12 zijn gevraagd om deze moordzaak op te lossen\, m
 aar ze staan voor een raadsel. Daarom schakelen zij de hulp in van de bezo
 ekers van het Zaantheater.\n\n\n\n\n\n\nIn deze interactieve whodunnit vol
  humor\, mysterie en intrige los je zelf op. Wanneer je District 12 komt v
 ersterken\, krijg je ter voorbereiding op de moordzaak toegang tot het dig
 itale dossier. Hierin vind je vooraf al informatie\, puzzels en codes\, we
 lke je een flinke voorsprong bieden in het ontrafelen van de moord.\n\nTij
 dens de voorstelling ben je onderdeel van de verhoren\, zie je flashbacks\
 , krijg je onderzoekstijd en volg je de dagelijkse gang van zaken bij Dist
 rict 12. Gedurende de onderzoekstijd krijg je (complexe) puzzels en nieuwe
  informatie te verwerken\, waarmee je direct zelf aan de slag kunt. Hierdo
 or kun jij erachter komen wie de moordenaar is.\n\nKies je ervoor je bevin
 dingen te delen of trek je liever zelf je conclusie? Wie weet het snelst d
 e zaak te ontrafelen en wie blijkt het beste van het hele District? Ben ji
 j de detective die wij zoeken? Dan zien we jou graag bij ‘District 12’
 !\n\nOver Create Studios\nCreate Studios verzorgt al meer dan vijf jaar 
 ‘Het Moordmysterie’: een interactief en spannend theaterspel in de foy
 ers en kleine zalen van theaters en schouwburgen. Met steeds wisselende mo
 ordmysteries gaven ze inmiddels duizenden bezoekers een spannende en grapp
 ige avond uit. De escaperoom uit\, het theater in.\n\n\nLees meer\n\n\n\n\
 nPrijzen\n\n\n\n\n\nRecensies\n\n\n\n\nExtra informatie:\n\n\n\n\n\nvr19 s
 ep 202520.00Albert HeijnzaalBestel\n\n
CATEGORIES:Theater,Toneel
LOCATION:Zaantheater\, Nicolaasstraat 3\, Zaandam\, 1506 BB\, Nederland
X-APPLE-STRUCTURED-LOCATION;VALUE=URI;X-ADDRESS=Nicolaasstraat 3\, Zaandam\
 , 1506 BB\, Nederland;X-APPLE-RADIUS=100;X-TITLE=Zaantheater:geo:0,0
END:VEVENT
BEGIN:VTIMEZONE
TZID:Europe/Amsterdam
X-LIC-LOCATION:Europe/Amsterdam
BEGIN:DAYLIGHT
DTSTART:20250330T030000
TZOFFSETFROM:+0100
TZOFFSETTO:+0200
TZNAME:CEST
END:DAYLIGHT
END:VTIMEZONE
END:VCALENDAR