BEGIN:VCALENDAR
VERSION:2.0
PRODID:-//wp-events-plugin.com//7.2.3.1//EN
TZID:Europe/Amsterdam
X-WR-TIMEZONE:Europe/Amsterdam
BEGIN:VEVENT
UID:35925@agenda-zaanstreek.nl
DTSTART;TZID=Europe/Amsterdam:20241123T203000
DTEND;TZID=Europe/Amsterdam:20241123T203000
DTSTAMP:20241121T110824Z
URL:https://agenda-zaanstreek.nl/events/dirty-thirty-2/
SUMMARY:Dirty Thirty
DESCRIPTION:\n\n\n\n\n\n\n\n\n\n 	\n&nbsp\;\n 	\n\nzaterdag\, nov 23\, 2024
 Open: 20:30Aanvang: 20:30Prijs: Gratis\n\n\n\n\n\nBands &amp\; Dj’s&nbsp
 \;\nKortom…. Feest\nEn zo te zien wordt er iemand 30 ook &nbsp\;\nDocile
  Bodys &amp\; Frankie Teardrop zullen een klapper van een live set neerzet
 ten.\nI am Viktor &amp\; Quino zullen daarna nog even wat lekkere plaatjes
  draaien &nbsp\;\n\n\n\n\n\n\n
CATEGORIES:Muziek
LOCATION:De Groote Weiver\, Industrieweg 1a\, Wormerveer\, 1521 NA\, Wormer
 veer\, Nederland
X-APPLE-STRUCTURED-LOCATION;VALUE=URI;X-ADDRESS=Industrieweg 1a\, Wormervee
 r\, 1521 NA\, Wormerveer\, Nederland;X-APPLE-RADIUS=100;X-TITLE=De Groote 
 Weiver:geo:0,0
END:VEVENT
BEGIN:VTIMEZONE
TZID:Europe/Amsterdam
X-LIC-LOCATION:Europe/Amsterdam
BEGIN:STANDARD
DTSTART:20241027T020000
TZOFFSETFROM:+0200
TZOFFSETTO:+0100
TZNAME:CET
END:STANDARD
END:VTIMEZONE
END:VCALENDAR