BEGIN:VCALENDAR
VERSION:2.0
PRODID:-//wp-events-plugin.com//7.2.3.1//EN
TZID:Europe/Amsterdam
X-WR-TIMEZONE:Europe/Amsterdam
BEGIN:VEVENT
UID:35574@agenda-zaanstreek.nl
DTSTART;TZID=Europe/Amsterdam:20250209T110000
DTEND;TZID=Europe/Amsterdam:20250209T140000
DTSTAMP:20241031T133002Z
URL:https://agenda-zaanstreek.nl/events/dirk-scheele-winterpret-2x/
SUMMARY:Dirk Scheele Winterpret (2x)
DESCRIPTION:\n\n\n\n\n&nbsp\;\n\n\n\n\n\n\n\nErvaar winterse gezelligheid m
 et Dirk Scheele's interactieve voorstelling Winterpret!&nbsp\;\n\n\nStilzi
 tten is er niet bij\, want we gaan samen zingen\, ons lekker warm dansen e
 n sneeuwballen gooien op liedjes als Bibber\, Bibber\, Bibber en Op de Noo
 rdpool. Binnen bij de kachel zingen we verder met opblaasgitaren en maken 
 muziek met muziekfruit. Ontmoet verrassende dieren in de besneeuwde tuin e
 n geniet van de hilarische pannenkoekenparty met Japie het Apie.&nbsp\;\n&
 nbsp\;\nWinterpret is een betoverende familiebelevenis in een sfeervol win
 terdecor. De voorstelling duurt 60 minuten. Na afloop is er een meet &amp\
 ; greet met Dirk.\n\n 	Datum: 9 februari 2025\n 	Aanvang: 11.00 uur en 14.
 00 uur\n 	Ticketprijs: € 13\,50\n 	kindervoorstelling\n\nLet op\, bij de
  kindervoorstellingen is het mogelijk om een pannenkoek arrangement te boe
 ken! Gezellig pannenkoeken eten na de voorstelling met de kids.\n\n\nTicke
 ts bestellen\n\n
CATEGORIES:Jeugd
LOCATION:Theater de Kaasfabriek\, Dorpsstraat 206\, Wormer\, 1531 HS\, Worm
 er\, Nederland
X-APPLE-STRUCTURED-LOCATION;VALUE=URI;X-ADDRESS=Dorpsstraat 206\, Wormer\, 
 1531 HS\, Wormer\, Nederland;X-APPLE-RADIUS=100;X-TITLE=Theater de Kaasfab
 riek:geo:0,0
END:VEVENT
BEGIN:VTIMEZONE
TZID:Europe/Amsterdam
X-LIC-LOCATION:Europe/Amsterdam
BEGIN:STANDARD
DTSTART:20241027T020000
TZOFFSETFROM:+0200
TZOFFSETTO:+0100
TZNAME:CET
END:STANDARD
END:VTIMEZONE
END:VCALENDAR