BEGIN:VCALENDAR
VERSION:2.0
PRODID:-//wp-events-plugin.com//7.2.3.1//EN
TZID:Europe/Amsterdam
X-WR-TIMEZONE:Europe/Amsterdam
BEGIN:VEVENT
UID:38102@agenda-zaanstreek.nl
DTSTART;TZID=Europe/Amsterdam:20250413T150000
DTEND;TZID=Europe/Amsterdam:20250413T150000
DTSTAMP:20250403T094100Z
URL:https://agenda-zaanstreek.nl/events/dirk-scheele-storyzoo-2-feelgood-a
 nimatie-en-liedjes/
SUMMARY:Dirk Scheele & StoryZoo (2+) - Feelgood-animatie en liedjes
DESCRIPTION:\n&nbsp\;\n\n\n\n\n\n\n Dirk Scheele de geliefde karakters van 
 StoryZoo tot leven! Bax de Beer\, Toby de Aap en Pepper de Papegaai zijn d
 e dappere drie musketiers die samen met Dirk op een reis vol muziek\, humo
 r en verrassingen gaan. Terwijl ze hun dromen najagen en kleine obstakels 
 overwinnen\, groeit hun vriendschap in elk lied en verhaal. De voorstellin
 g zit vol herkenbare liedjes\, zoals&nbsp\;Ik loop als een beer\, en nieuw
 e StoryZoo-hits zoals&nbsp\;De StoryZoo Dance.&nbsp\;\n\n\n\nLees meer\n\n
 \n\n\nPrijzen\n\n\n\n\n\nRecensies\n\n\n\n\nExtra informatie:\n\n\n\n\n\nz
 o13 apr 202515.00Albert HeijnzaalBestel\n\n\n\n
CATEGORIES:Jeugd
LOCATION:Zaantheater\, Nicolaasstraat 3\, Zaandam\, 1506 BB\, Nederland
X-APPLE-STRUCTURED-LOCATION;VALUE=URI;X-ADDRESS=Nicolaasstraat 3\, Zaandam\
 , 1506 BB\, Nederland;X-APPLE-RADIUS=100;X-TITLE=Zaantheater:geo:0,0
END:VEVENT
BEGIN:VTIMEZONE
TZID:Europe/Amsterdam
X-LIC-LOCATION:Europe/Amsterdam
BEGIN:DAYLIGHT
DTSTART:20250330T030000
TZOFFSETFROM:+0100
TZOFFSETTO:+0200
TZNAME:CEST
END:DAYLIGHT
END:VTIMEZONE
END:VCALENDAR