BEGIN:VCALENDAR
VERSION:2.0
PRODID:-//wp-events-plugin.com//7.2.3.1//EN
TZID:Europe/Amsterdam
X-WR-TIMEZONE:Europe/Amsterdam
BEGIN:VEVENT
UID:39283@agenda-zaanstreek.nl
DTSTART;TZID=Europe/Amsterdam:20251019T153000
DTEND;TZID=Europe/Amsterdam:20251019T153000
DTSTAMP:20250619T095158Z
URL:https://agenda-zaanstreek.nl/events/dirk-scheele-popconcert-voor-kinde
 ren/
SUMMARY:Dirk Scheele - Popconcert voor kinderen
DESCRIPTION:\n\n\n\n\n&nbsp\;\n\n\n\n\n\n 	Datum\n 	19 oktober 2025\n 	Voor
 verkoop\n 	€ 13\,50\n 	Deur\n 	€ 16\,00\n\n\n 	Zaal open\n 	15:00\n 	A
 anvang\n 	15:30\n\n\nTickets\n\n\n
CATEGORIES:Jeugd,Muziek
LOCATION:Podium De Flux\, Hemkade 48\, Zaandam\, 1506 PS\, Nederland
X-APPLE-STRUCTURED-LOCATION;VALUE=URI;X-ADDRESS=Hemkade 48\, Zaandam\, 1506
  PS\, Nederland;X-APPLE-RADIUS=100;X-TITLE=Podium De Flux:geo:0,0
END:VEVENT
BEGIN:VTIMEZONE
TZID:Europe/Amsterdam
X-LIC-LOCATION:Europe/Amsterdam
BEGIN:DAYLIGHT
DTSTART:20250330T030000
TZOFFSETFROM:+0100
TZOFFSETTO:+0200
TZNAME:CEST
END:DAYLIGHT
END:VTIMEZONE
END:VCALENDAR