BEGIN:VCALENDAR
VERSION:2.0
PRODID:-//wp-events-plugin.com//7.2.3.1//EN
TZID:Europe/Amsterdam
X-WR-TIMEZONE:Europe/Amsterdam
BEGIN:VEVENT
UID:33593@agenda-zaanstreek.nl
DTSTART;TZID=Europe/Amsterdam:20241206T203000
DTEND;TZID=Europe/Amsterdam:20241206T203000
DTSTAMP:20240702T093335Z
URL:https://agenda-zaanstreek.nl/events/diederik-van-vleuten-bouwjaar-61/
SUMMARY:Diederik van Vleuten - Bouwjaar '61
DESCRIPTION:\n\n\nDiederik was bijna 8 jaar toen de eerste mensen landden o
 p de maan. De korrelige beelden van astronauten in witte pakken maakten ee
 n onuitwisbare indruk. Net als de beelden en geluiden van Vietnam en Cambo
 dja. En Toppop niet te vergeten. Zijn wereldbeeld werd mede gevormd door K
 uifje en Asterix. En misschien is dat nog wel steeds zo.&nbsp\;\n\n\n\n\n\
 n\nDe kracht en betekenis van herinnering. Daarover gaat Diederik’s 5e s
 olo. Hij vraagt zich af wat er\, anno nu\, over is van de verbazing\, verw
 ondering en bewondering van een ventje van bouwjaar ’61. Goed nieuws: me
 er dan genoeg om een avond mee te vullen. Na jarenlang zijn voorouders in 
 het theater tot leven te hebben gewekt\, gaat Diederik nu eindelijk zijn e
 igen verleden te lijf. Het jongetje van toen kijkt naar de wereld van nu. 
 En andersom. Een halve eeuw terug in de tijd is voor meesterverteller Van 
 Vleuten maar een kleine stap. Wat die kleine stap voor de mensheid beteken
 t\, weten we na afloop.&nbsp\;\n\n\n\n\n\n\n&nbsp\;\n\n\n\n\nVR6 dec 20242
 0.30Kleine Zaal\n\n\n\n\n\nrepriseBestel\n\n
CATEGORIES:Cabaret
LOCATION:Zaantheater\, Nicolaasstraat 3\, Zaandam\, 1506 BB\, Nederland
X-APPLE-STRUCTURED-LOCATION;VALUE=URI;X-ADDRESS=Nicolaasstraat 3\, Zaandam\
 , 1506 BB\, Nederland;X-APPLE-RADIUS=100;X-TITLE=Zaantheater:geo:0,0
END:VEVENT
BEGIN:VTIMEZONE
TZID:Europe/Amsterdam
X-LIC-LOCATION:Europe/Amsterdam
BEGIN:STANDARD
DTSTART:20241027T020000
TZOFFSETFROM:+0200
TZOFFSETTO:+0100
TZNAME:CET
END:STANDARD
END:VTIMEZONE
END:VCALENDAR