BEGIN:VCALENDAR
VERSION:2.0
PRODID:-//wp-events-plugin.com//7.2.3.1//EN
TZID:Europe/Amsterdam
X-WR-TIMEZONE:Europe/Amsterdam
BEGIN:VEVENT
UID:40599@agenda-zaanstreek.nl
DTSTART;TZID=Europe/Amsterdam:20251111T140000
DTEND;TZID=Europe/Amsterdam:20251111T140000
DTSTAMP:20251106T111342Z
URL:https://agenda-zaanstreek.nl/events/diederik-jekel-de-kunst-in-kunstma
 tige-intelligentie-zien/
SUMMARY:Diederik Jekel - De kunst in kunstmatige intelligentie zien
DESCRIPTION:\n\n 	Theatercolleges &amp\; Salons\n\n\n\n\nWordt kunstmatige 
 intelligentie (KI) onze ondergang? Of is ze vooral de oplossing voor alle 
 saaie klusjes op kantoor? Met kunstmatige intelligentie schrijft en beantw
 oordt een programma alle mails van jou en je collega’s. Er komt geen men
 s meer tussen.\n\n\n\n\n\n\nJe hoeft nooit meer zelf een PowerPoint te mak
 en of een document samen te vatten voor je baas. Nadenken en ploeteren op 
 je werk\, is verleden tijd.\n\nMaar: al snel kan de computer je werk beter
  dan jijzelf. Weten we nooit meer wanneer een video echt is of niet. Journ
 alisten\, kunstenaars en rechters worden op termijn ook vervangen door KI.
  Hoe zijn we hier in vredesnaam in terecht gekomen en wat gaat dit beteken
 en voor de mensheid? Wat is leven? Wat is creativiteit? Bestaat evolutie n
 og en is dit het gevolg?\n\nDiederik Jekel neemt je in dit unieke theatral
 e voorstellingscollege mee in het grootste verhaal denkbaar. Dat over het 
 leven zelf. Hoe kwam leven\, hoe kwam toen de mens en hoe kwam uiteindelij
 k de computer?\n\nAan het einde van dit humoristische college kijk je ande
 rs naar elke bacterie\, mens of computer. Ook ontwikkel je een gevoel bij 
 hoe kunstmatige intelligentie onder de motorkap werkt. Dit leuke en leerza
 me theatercollege is bedoeld voor iedereen\, ook (juist) de mensen die nau
 welijks de aan-knop van hun telefoon kunnen vinden.\n\n\n\n
CATEGORIES:Theatercolleges &amp; Salons
LOCATION:Zaantheater\, Nicolaasstraat 3\, Zaandam\, 1506 BB\, Nederland
X-APPLE-STRUCTURED-LOCATION;VALUE=URI;X-ADDRESS=Nicolaasstraat 3\, Zaandam\
 , 1506 BB\, Nederland;X-APPLE-RADIUS=100;X-TITLE=Zaantheater:geo:0,0
END:VEVENT
BEGIN:VTIMEZONE
TZID:Europe/Amsterdam
X-LIC-LOCATION:Europe/Amsterdam
BEGIN:STANDARD
DTSTART:20251026T020000
TZOFFSETFROM:+0200
TZOFFSETTO:+0100
TZNAME:CET
END:STANDARD
END:VTIMEZONE
END:VCALENDAR