BEGIN:VCALENDAR
VERSION:2.0
PRODID:-//wp-events-plugin.com//7.2.3.1//EN
TZID:Europe/Amsterdam
X-WR-TIMEZONE:Europe/Amsterdam
BEGIN:VEVENT
UID:40390@agenda-zaanstreek.nl
DTSTART;TZID=Europe/Amsterdam:20251016T203000
DTEND;TZID=Europe/Amsterdam:20251016T203000
DTSTAMP:20251009T093602Z
URL:https://agenda-zaanstreek.nl/events/dgw-film-true-stories/
SUMMARY:DGW Film - True Stories
DESCRIPTION:\n\n\n\n\n\n\n\n\n\n 	\n\ndonderdag\, okt 16\, 2025Open: 20:00A
 anvang: 20:30Prijs: €3\,-\n\n\n\n\nRegisseur: David Byrne\nJaar: 1986\nL
 and: Amerika\nDuur: 90 Minuten\n&nbsp\;\n\n\n\n\n\nAan de hand van David B
 yrne\, bekend als zanger van de New Yorkse post-punkband Talking Heads\, b
 rengen we in deze muzikale satire een bezoek aan het fictieve Texaanse sta
 dje Virgil\, dat haar 150-jarig bestaan viert. Onze gids\, getooid met een
  oversized Texaanse Stetson-hoed\, leidt ons langs een aantal opmerkelijke
  bewoners: de eenzame vrijgezel Louis Fyne\, de ‘Liegende Vrouw’\, de 
 ‘Luie Vrouw’\, de man wiens hoofd een radio-ontvanger is\, en andere v
 reemde vogels wier levenswijze geheel in de traditie staat van onvervalste
  Americana\, met alles wat daarbij hoort: rockmuziek\, geloof in buitenaar
 dse wezens en de hartstochtelijk gekoesterde droom van een beter leven.\n&
 nbsp\;\nHet regiedebuut van David Byrne — een vermakelijke verkenning va
 n Amerika’s achterland\, geïnspireerd op zijn verzameling van krantenkn
 ipsels over markante (gewone) mensen en gebeurtenissen — werd in&nbsp\;T
 he Time Out Film Guide&nbsp\;omschreven als ‘een rockfilm met hersens\, 
 een kunstfilm met ballen en een onderhoudende toespraak aan het volk’.\n
 \n\n\n\n\n\n
CATEGORIES:Film
LOCATION:De Groote Weiver\, Industrieweg 1a\, Wormerveer\, 1521 NA\, Wormer
 veer\, Nederland
X-APPLE-STRUCTURED-LOCATION;VALUE=URI;X-ADDRESS=Industrieweg 1a\, Wormervee
 r\, 1521 NA\, Wormerveer\, Nederland;X-APPLE-RADIUS=100;X-TITLE=De Groote 
 Weiver:geo:0,0
END:VEVENT
BEGIN:VTIMEZONE
TZID:Europe/Amsterdam
X-LIC-LOCATION:Europe/Amsterdam
BEGIN:DAYLIGHT
DTSTART:20250330T030000
TZOFFSETFROM:+0100
TZOFFSETTO:+0200
TZNAME:CEST
END:DAYLIGHT
END:VTIMEZONE
END:VCALENDAR